BEGIN:VCALENDAR
VERSION:2.0
PRODID:-//ChamberMaster//Event Calendar 2.0//EN
METHOD:PUBLISH
X-PUBLISHED-TTL:P3D
REFRESH-INTERVAL:P3D
CALSCALE:GREGORIAN
BEGIN:VEVENT
DTSTART:20220406T220000Z
DTEND:20220407T010000Z
X-MICROSOFT-CDO-ALLDAYEVENT:FALSE
SUMMARY:Dare to Dream Women's Entrepreneurship Event - Financial Success
DESCRIPTION:We are here to help connect you with women leaders to learn from their successes and failures--and to develop relationships into mentoring!\n\n\n\n\n\n\nAbout this event\n\n\n\nPlease note-one registration per person to help us with registration!!\n\nKeynote Speaker: Melissa Wise\, CPA\, MBA\n\nMelissa Wise is the owner of Wise Tax and Accounting. Melissa has over 20 years experience with accounting\, payroll and taxes. Before starting Wise Tax and Accounting\, she worked as a Senior Business Advisor for a large tax and accounting firm in Washington\, DC. Wise Tax and Accounting has clients all over the country by utilizing technology to collaborate and maintain a personal client/accountant relationship. Wise Tax and Accounting recently celebrated their 10th Anniversary. Melissa and her husband Chad have lived all over the country while he was in the US Army. Now that he is retired\, they operate a cattle ranch outside of Fort Scott. When Melissa isn't at the office\, she enjoys traveling and spending time with family.\n\nROUND TABLE OPEN DISCUSSION!!\n\nCome visit with past speakers!! Including:\n\nErin Vann\n\nDacia Clark\, PSU SBDC\n\nKatie Casper\, Unionstate Bank\n\nAngela Simon\, Bids and Dibs\n\nRebecca Williams\, The Butcher Block\n\nKelly Perry\, Perry's Pork\n\nLindsay Madison\, The Fort Scott Area Chamber of Commerce\n\nRachel Carpenter and Jody Hoener\, the Healthy Bourbon County Action Team\n\nRegistration required for childcare!!\n\nTaco Bar catered by La Hacienda!! Margaritas available for purchase!! Dinner and networking from 5-5:30\; the program will begin right at 5:30!\n\nFunding for this event is being provided by Blue Cross and Blue Shield of Kansas as part of Bourbon County Pathways to a Healthy Kansas grant and the USDA Rural Business Development Grant.\n\nWe are an equal opportunity organization.
X-ALT-DESC;FMTTYPE=text/html:<div class="g-group l-lg-mar-bot-6 l-md-mar-bot-4  " style="margin: 0px 0px 30px\; padding: 0px\; font-size: 0px\; letter-spacing: 0px\; color: rgb(57\, 54\, 79)\; font-family: &quot\;Neue Plak&quot\;\, -apple-system\, BlinkMacSystemFont\, Roboto\, &quot\;Helvetica Neue&quot\;\, Helvetica\, Tahoma\, Arial\, sans-serif\;">\n<div class="g-cell g-cell-10-12 g-cell-md-1-1" style="margin: 0px\; padding: 0px 15px\; width: 560px\; box-sizing: border-box\; display: inline-block\; overflow: hidden\; vertical-align: top\; letter-spacing: 0.5px\; font-size: 0.933333rem\; line-height: 1.25rem\;">\n<div class="has-user-generated-content" style="margin: 0px\; padding: 0px\;">\n<div class="text-body-medium" data-automation="listing-event-description" style="margin: 0px\; padding: 0px\; font-size: 0.933333rem\; line-height: 1.25rem\;"><span style="font-size:20px\;"><span style="font-family:times new roman\;"><span style="font-weight: 700\; padding-top: 0px\;">We are here to help connect you with women leaders to learn from their successes and failures--and to develop relationships into mentoring!</span></span></span></div>\n</div>\n</div>\n</div>\n\n<div class="g-group l-mar-bot-6 l-sm-mar-bot-4" style="margin: 0px 0px 30px\; padding: 0px\; font-size: 0px\; letter-spacing: 0px\; color: rgb(57\, 54\, 79)\; font-family: &quot\;Neue Plak&quot\;\, -apple-system\, BlinkMacSystemFont\, Roboto\, &quot\;Helvetica Neue&quot\;\, Helvetica\, Tahoma\, Arial\, sans-serif\;">\n<div class="structured-content g-cell g-cell-10-12 g-cell-md-1-1" style="margin: 0px\; padding: 0px 15px\; width: 560px\; box-sizing: border-box\; display: inline-block\; overflow: hidden\; vertical-align: top\; letter-spacing: 0.5px\; font-size: 0.933333rem\; line-height: 1.25rem\;">\n<h2 class="text-body-large hide-small" style="margin: 0px -0.25px 0px 0px\; padding: 0px\; font-weight: 600\; font-size: 1.2rem\; line-height: 1.5rem\; letter-spacing: 0.25px\;"><span style="font-size:20px\;"><span style="font-family:times new roman\;">About this event</span></span></h2>\n\n<div class="has-user-generated-content" data-automation="about-this-event-sc" style="margin: 0px\; padding: 0px\;">\n<div class="structured-content-rich-text structured-content__module l-align-left l-mar-vert-6 l-sm-mar-vert-4 text-body-medium" style="margin: 30px 0px\; padding: 0px\; font-size: 0.933333rem\; line-height: 1.25rem\; text-rendering: optimizelegibility\;">\n<p style="margin: 0px\; padding: 0px\; color: rgb(111\, 114\, 135)\; font-size: 16px\; line-height: 1.5rem\;"><span style="font-size:20px\;"><span style="font-family:times new roman\;">Please note-one registration per person to help us with registration!!</span></span></p>\n\n<h1 style="margin: 0px\; padding: 0px\; font-size: 32px\; line-height: 2.5rem\; letter-spacing: 0.75px\; font-weight: 700\;"><span style="font-size:20px\;"><span style="font-family:times new roman\;">Keynote Speaker: Melissa Wise\, CPA\, MBA</span></span></h1>\n\n<h2 style="margin: 0px\; padding: 10px 0px 0px\; color: rgb(30\, 10\, 60)\; font-size: 24px\; line-height: 2rem\; font-weight: 700\;"><span style="font-size:20px\;"><span style="font-family:times new roman\;">Melissa Wise is the owner of Wise Tax and Accounting. Melissa has over 20 years experience with accounting\, payroll and taxes. Before starting Wise Tax and Accounting\, she worked as a Senior Business Advisor for a large tax and accounting firm in Washington\, DC. Wise Tax and Accounting has clients all over the country by utilizing technology to collaborate and maintain a personal client/accountant relationship. Wise Tax and Accounting recently celebrated their 10th Anniversary. Melissa and her husband Chad have lived all over the country while he was in the US Army. Now that he is retired\, they operate a cattle ranch outside of Fort Scott. When Melissa isn&#39\;t at the office\, she enjoys traveling and spending time with family.</span></span></h2>\n\n<h2 style="margin: 0px\; padding: 10px 0px 0px\; color: rgb(30\, 10\, 60)\; font-size: 24px\; line-height: 2rem\; font-weight: 700\;"><span style="font-size:20px\;"><span style="font-family:times new roman\;">ROUND TABLE OPEN DISCUSSION!!</span></span></h2>\n\n<h2 style="margin: 0px\; padding: 10px 0px 0px\; color: rgb(30\, 10\, 60)\; font-size: 24px\; line-height: 2rem\; font-weight: 700\;"><span style="font-size:20px\;"><span style="font-family:times new roman\;">Come visit with past speakers!! Including:</span></span></h2>\n\n<h2 style="margin: 0px\; padding: 10px 0px 0px\; color: rgb(30\, 10\, 60)\; font-size: 24px\; line-height: 2rem\; font-weight: 700\;"><span style="font-size:20px\;"><span style="font-family:times new roman\;">Erin Vann</span></span></h2>\n\n<h2 style="margin: 0px\; padding: 10px 0px 0px\; color: rgb(30\, 10\, 60)\; font-size: 24px\; line-height: 2rem\; font-weight: 700\;"><span style="font-size:20px\;"><span style="font-family:times new roman\;">Dacia Clark\, PSU SBDC</span></span></h2>\n\n<h2 style="margin: 0px\; padding: 10px 0px 0px\; color: rgb(30\, 10\, 60)\; font-size: 24px\; line-height: 2rem\; font-weight: 700\;"><span style="font-size:20px\;"><span style="font-family:times new roman\;">Katie Casper\, Unionstate Bank</span></span></h2>\n\n<h2 style="margin: 0px\; padding: 10px 0px 0px\; color: rgb(30\, 10\, 60)\; font-size: 24px\; line-height: 2rem\; font-weight: 700\;"><span style="font-size:20px\;"><span style="font-family:times new roman\;">Angela Simon\, Bids and Dibs</span></span></h2>\n\n<h2 style="margin: 0px\; padding: 10px 0px 0px\; color: rgb(30\, 10\, 60)\; font-size: 24px\; line-height: 2rem\; font-weight: 700\;"><span style="font-size:20px\;"><span style="font-family:times new roman\;">Rebecca Williams\, The Butcher Block</span></span></h2>\n\n<h2 style="margin: 0px\; padding: 10px 0px 0px\; color: rgb(30\, 10\, 60)\; font-size: 24px\; line-height: 2rem\; font-weight: 700\;"><span style="font-size:20px\;"><span style="font-family:times new roman\;">Kelly Perry\, Perry&#39\;s Pork</span></span></h2>\n\n<h2 style="margin: 0px\; padding: 10px 0px 0px\; color: rgb(30\, 10\, 60)\; font-size: 24px\; line-height: 2rem\; font-weight: 700\;"><span style="font-size:20px\;"><span style="font-family:times new roman\;">Lindsay Madison\, The Fort Scott Area Chamber of Commerce</span></span></h2>\n\n<h2 style="margin: 0px\; padding: 10px 0px 0px\; color: rgb(30\, 10\, 60)\; font-size: 24px\; line-height: 2rem\; font-weight: 700\;"><span style="font-size:20px\;"><span style="font-family:times new roman\;">Rachel Carpenter and Jody Hoener\, the Healthy Bourbon County Action Team</span></span></h2>\n\n<p style="margin: 0px\; padding: 10px 0px 0px\; color: rgb(111\, 114\, 135)\; font-size: 16px\; line-height: 1.5rem\;"><span style="font-size:20px\;"><span style="font-family:times new roman\;">Registration required for childcare!!</span></span></p>\n\n<p style="margin: 0px\; padding: 10px 0px 0px\; color: rgb(111\, 114\, 135)\; font-size: 16px\; line-height: 1.5rem\;"><span style="font-size:20px\;"><span style="font-family:times new roman\;">Taco Bar catered by La Hacienda!! Margaritas available for purchase!! Dinner and networking from 5-5:30\; the program will begin right at 5:30!</span></span></p>\n\n<p style="margin: 0px\; padding: 10px 0px 0px\; color: rgb(111\, 114\, 135)\; font-size: 16px\; line-height: 1.5rem\;"><span style="font-size:20px\;"><span style="font-family:times new roman\;">Funding for this event is being provided by Blue Cross and Blue Shield of Kansas as part of Bourbon County Pathways to a Healthy Kansas grant and the USDA Rural Business Development Grant.</span></span></p>\n\n<p style="margin: 0px\; padding: 10px 0px 0px\; color: rgb(111\, 114\, 135)\; font-size: 16px\; line-height: 1.5rem\;"><span style="font-size:20px\;"><span style="font-family:times new roman\;">We are an equal opportunity organization.</span></span></p>\n</div>\n</div>\n</div>\n</div>\n
LOCATION:HBCAT Headquarters 104 North National Avenue Fort Scott\, KS 66701
UID:e.2874.24401
SEQUENCE:3
DTSTAMP:20260425T173125Z
URL:https://fortscott.com/events/details/dare-to-dream-women-s-entrepreneurship-event-financial-success-24401
END:VEVENT

END:VCALENDAR
