BEGIN:VCALENDAR
VERSION:2.0
PRODID:-//ChamberMaster//Event Calendar 2.0//EN
METHOD:PUBLISH
X-PUBLISHED-TTL:P3D
REFRESH-INTERVAL:P3D
CALSCALE:GREGORIAN
BEGIN:VEVENT
DTSTART:20211209T230000Z
DTEND:20211210T030000Z
X-MICROSOFT-CDO-ALLDAYEVENT:FALSE
SUMMARY:Del Brenna Jewelry Trunk Show at Crooner's Lounge - 2021
DESCRIPTION:Del Brenna Jewelry Trunk Show \n\nJoin us for a special evening\, don't miss this event!
X-ALT-DESC;FMTTYPE=text/html:Del Brenna Jewelry Trunk Show&nbsp\;<br />\nJoin us for a special evening\, don&#39\;t miss this event!
LOCATION:Crooner's Lounge\, 117 S. Main St.
UID:e.2874.22400
SEQUENCE:3
DTSTAMP:20260426T000815Z
URL:https://fortscott.com/events/details/del-brenna-jewelry-trunk-show-at-crooner-s-lounge-2021-22400
END:VEVENT

END:VCALENDAR
