BEGIN:VCALENDAR
VERSION:2.0
PRODID:-//ChamberMaster//Event Calendar 2.0//EN
METHOD:PUBLISH
X-PUBLISHED-TTL:P3D
REFRESH-INTERVAL:P3D
CALSCALE:GREGORIAN
BEGIN:VEVENT
DTSTART:20211219T234500Z
DTEND:20211220T021500Z
X-MICROSOFT-CDO-ALLDAYEVENT:FALSE
SUMMARY:Dolly Hollyday Christmas Light Tours 2021
DESCRIPTION:Dolly Hollyday Christmas Light Trolley Tours\n\n\n\n\n\nDecember 10th thru the 23rd\, except for no tours on the 11th or 18th due to the Christmas in Gunn Park event being held on those nights.\n\n \n\n\n\nTours at 5:45PM & 7PM each night\n\n\n\n \n\n\n\nEnjoy free hot chocolate\, cookies\, candy canes & glow necklaces.\n\n\n\nThen climb aboard Dolly the Trolley!\n\n\n\nSing Christmas carols with Santa's elves & enjoy all the beautiful Christmas lights around Fort Scott on this 50-minute tour!\n\n\n\n \n\n\n\n*Reservation Only*\n\n\n\n$8 Adults\n\n\n\n$5 Kids (12 & Under)\n\n\n\n$125 to book the entire trolley for your family or group of friends (trolley seats 22 with 2 elves\, or 24 with no elves)\n\n\n\n \n\n\n\nTours leave from the Chamber\, 231 E. Wall St.\, Fort Scott\, KS\n\n \n\n\n\n620-223-3566
X-ALT-DESC;FMTTYPE=text/html:<div data-contents="true">\n<div data-block="true" data-editor="7lvt5" data-offset-key="o5pm-0-0">\n<div class="_1mf _1mj" data-offset-key="o5pm-0-0"><span data-offset-key="o5pm-0-0">Dolly Hollyday Christmas Light Trolley Tours</span></div>\n</div>\n\n<div data-block="true" data-editor="7lvt5" data-offset-key="bsnlq-0-0">\n<div class="_1mf _1mj" data-offset-key="bsnlq-0-0"><br />\n<span data-offset-key="bsnlq-0-0">December 10th thru the 23rd\, except for no tours on the 11th or 18th due to the Christmas in Gunn Park event being held on those nights.</span><br />\n&nbsp\;</div>\n</div>\n\n<div data-block="true" data-editor="7lvt5" data-offset-key="167ad-0-0">\n<div class="_1mf _1mj" data-offset-key="167ad-0-0"><span data-offset-key="167ad-0-0">Tours at 5:45PM &amp\; 7PM each night</span></div>\n</div>\n\n<div data-block="true" data-editor="7lvt5" data-offset-key="fbnjh-0-0">\n<div class="_1mf _1mj" data-offset-key="fbnjh-0-0">&nbsp\;</div>\n</div>\n\n<div data-block="true" data-editor="7lvt5" data-offset-key="a42ra-0-0">\n<div class="_1mf _1mj" data-offset-key="a42ra-0-0"><span data-offset-key="a42ra-0-0">Enjoy free hot chocolate\, cookies\, candy canes &amp\; glow necklaces.</span></div>\n</div>\n\n<div data-block="true" data-editor="7lvt5" data-offset-key="am8j6-0-0">\n<div class="_1mf _1mj" data-offset-key="am8j6-0-0"><span data-offset-key="am8j6-0-0">Then climb aboard Dolly the Trolley!</span></div>\n</div>\n\n<div data-block="true" data-editor="7lvt5" data-offset-key="4a2lv-0-0">\n<div class="_1mf _1mj" data-offset-key="4a2lv-0-0"><span data-offset-key="4a2lv-0-0">Sing Christmas carols with Santa&#39\;s elves &amp\; enjoy all the beautiful Christmas lights around Fort Scott on this 50-minute tour!</span></div>\n</div>\n\n<div data-block="true" data-editor="7lvt5" data-offset-key="4qdn3-0-0">\n<div class="_1mf _1mj" data-offset-key="4qdn3-0-0">&nbsp\;</div>\n</div>\n\n<div data-block="true" data-editor="7lvt5" data-offset-key="44c2r-0-0">\n<div class="_1mf _1mj" data-offset-key="44c2r-0-0"><span data-offset-key="44c2r-0-0">*Reservation Only*</span></div>\n</div>\n\n<div data-block="true" data-editor="7lvt5" data-offset-key="5te2-0-0">\n<div class="_1mf _1mj" data-offset-key="5te2-0-0"><span data-offset-key="5te2-0-0">$8 Adults</span></div>\n</div>\n\n<div data-block="true" data-editor="7lvt5" data-offset-key="jeof-0-0">\n<div class="_1mf _1mj" data-offset-key="jeof-0-0"><span data-offset-key="jeof-0-0">$5 Kids (12 &amp\; Under)</span></div>\n</div>\n\n<div data-block="true" data-editor="7lvt5" data-offset-key="51o4p-0-0">\n<div class="_1mf _1mj" data-offset-key="51o4p-0-0"><span data-offset-key="51o4p-0-0">$125 to book the entire trolley for your family or group of friends&nbsp\;(trolley seats 22 with 2 elves\, or 24 with no elves)</span></div>\n</div>\n\n<div data-block="true" data-editor="7lvt5" data-offset-key="c5ojo-0-0">\n<div class="_1mf _1mj" data-offset-key="c5ojo-0-0">&nbsp\;</div>\n</div>\n\n<div data-block="true" data-editor="7lvt5" data-offset-key="dfo2c-0-0">\n<div class="_1mf _1mj" data-offset-key="dfo2c-0-0"><span data-offset-key="dfo2c-0-0">Tours leave from the Chamber\, 231 E. Wall St.\, Fort Scott\, KS</span><br />\n&nbsp\;</div>\n</div>\n\n<div data-block="true" data-editor="7lvt5" data-offset-key="7jsu6-0-0">\n<div class="_1mf _1mj" data-offset-key="7jsu6-0-0"><span data-offset-key="7jsu6-0-0">620-223-3566</span></div>\n</div>\n</div>\n
LOCATION:Chamber & Visitor's Center
UID:e.2874.22409
SEQUENCE:3
DTSTAMP:20260426T000641Z
URL:https://fortscott.com/events/details/dolly-hollyday-christmas-light-tours-2021-12-19-2021-22409
END:VEVENT

END:VCALENDAR
