BEGIN:VCALENDAR
VERSION:2.0
PRODID:-//ChamberMaster//Event Calendar 2.0//EN
METHOD:PUBLISH
X-PUBLISHED-TTL:P3D
REFRESH-INTERVAL:P3D
CALSCALE:GREGORIAN
BEGIN:VEVENT
DTSTART:20231208T234500Z
DTEND:20231224T021500Z
X-MICROSOFT-CDO-ALLDAYEVENT:FALSE
SUMMARY:Dolly Hollyday Christmas Light Trolley Tours
DESCRIPTION:The Fort Scott Area Chamber of Commerce is excited to announce that reservations are now being taken for the 2023 Dolly Hollyday Christmas Light Trolley Tours. The 50-minute tour is a fun outing for families\, friends\, or co-workers to see the most festive Christmas lights in Fort Scott.\n\nTours will run nightly from Friday\, December 8th through Saturday\, December 23rd.  There will be two tours each evening at 5:45 and 7pm.  There will be an additional 8:15pm tour on the included Friday and Saturday nights.  \n\nThe cost of tour is $8 for adults and $5 for children 12 and under or the whole trolley may be booked for $125\, seating up to twenty-two passengers. Those taking the tour are invited to arrive at the Chamber early for complimentary cookies\, hot cocoa\, and glow necklaces for the ride.\n\nContact the Fort Scott Area Chamber of Commerce for more information at 620-223-3566 or visit fortscott.com.
X-ALT-DESC;FMTTYPE=text/html:<span style="font-family:georgia\,serif\;"><span style="font-size:12.0pt\;">The Fort Scott Area Chamber of Commerce is excited to announce that reservations are now being taken for the 2023 Dolly Hollyday Christmas Light Trolley Tours. The 50-minute tour is a fun outing for families\, friends\, or co-workers to see the most festive Christmas lights in Fort Scott.</span></span><br />\n<span style="font-family:georgia\,serif\;"><span style="font-size:12.0pt\;">Tours will run nightly from Friday\, December 8<sup>th</sup> through Saturday\, December 23<sup>rd</sup>.&nbsp\; There will be two tours each evening at 5:45 and 7pm.&nbsp\; There will be an additional 8:15pm tour on the included Friday and Saturday nights. &nbsp\;</span></span><br />\n<span style="font-family:georgia\,serif\;"><span style="font-size:12.0pt\;">The cost of tour is $8 for adults and $5 for children 12 and under or the whole trolley may be booked for $125\, seating up to twenty-two passengers. Those taking the tour are invited to arrive at the Chamber early for complimentary cookies\, hot cocoa\, and glow necklaces for the ride.</span></span><br />\n<span style="font-family:georgia\,serif\;"><span style="font-size:12.0pt\;">Contact the Fort Scott Area Chamber of Commerce for more information at 620-223-3566 or visit fortscott.com.</span></span>
LOCATION:
UID:e.2874.29814
SEQUENCE:3
DTSTAMP:20260425T123752Z
URL:https://fortscott.com/events/details/dolly-hollyday-christmas-light-trolley-tours-29814
END:VEVENT

END:VCALENDAR
