BEGIN:VCALENDAR
VERSION:2.0
PRODID:-//ChamberMaster//Event Calendar 2.0//EN
METHOD:PUBLISH
X-PUBLISHED-TTL:P3D
REFRESH-INTERVAL:P3D
CALSCALE:GREGORIAN
BEGIN:VEVENT
DTSTART:20210925T000000Z
DTEND:20210926T220000Z
X-MICROSOFT-CDO-ALLDAYEVENT:FALSE
SUMMARY:Doug Hazelbaker Memorial Ranch Rodeo\, Breakaway\, Calf Roping and Steer Wresting at the Bourbon County Fairgrounds
DESCRIPTION:Ranch Rodeo ~ Friday night\, 7pm\n\n\n\nOther events ~ all day Saturday & Sunday:\n\nSteer wrestling\n\nCalf roping\n\nOver 40 calf roping\n\nOpen breakaway \n\n14 and under breakaway\n\n\n\nSharky's will be onsite the whole weekend with beverages & concessions!\n\n\n\nCowboys For Cancer Crisis Fund is a non profit organization under IRS section 501(c)3. \n\nAll donations made to help with this event are tax deductible. If you want to become a buckle sponsor or help in another way please message Jana Hazelbaker or Alaina Holmes.
X-ALT-DESC;FMTTYPE=text/html:<span style="color: rgb(29\, 33\, 41)\; font-family: Helvetica\, Arial\, sans-serif\; font-size: 14px\;">Ranch Rodeo ~ Friday night\, 7pm<br />\n<br />\nOther events ~ all day Saturday &amp\; Sunday:<br />\nSteer wrestling</span><br style="color: rgb(29\, 33\, 41)\; font-family: Helvetica\, Arial\, sans-serif\; font-size: 14px\;" />\n<span style="color: rgb(29\, 33\, 41)\; font-family: Helvetica\, Arial\, sans-serif\; font-size: 14px\;">Calf roping</span><br style="color: rgb(29\, 33\, 41)\; font-family: Helvetica\, Arial\, sans-serif\; font-size: 14px\;" />\n<span style="color: rgb(29\, 33\, 41)\; font-family: Helvetica\, Arial\, sans-serif\; font-size: 14px\;">Over 40 calf roping</span><br style="color: rgb(29\, 33\, 41)\; font-family: Helvetica\, Arial\, sans-serif\; font-size: 14px\;" />\n<span style="color: rgb(29\, 33\, 41)\; font-family: Helvetica\, Arial\, sans-serif\; font-size: 14px\;">Open breakaway&nbsp\;</span><br style="color: rgb(29\, 33\, 41)\; font-family: Helvetica\, Arial\, sans-serif\; font-size: 14px\;" />\n<span style="color: rgb(29\, 33\, 41)\; font-family: Helvetica\, Arial\, sans-serif\; font-size: 14px\;">14 and under breakaway<br />\n<br />\nSharky&#39\;s will be onsite the whole weekend with beverages &amp\; concessions!<br />\n<br />\nCowboys For Cancer Crisis Fund is a non profit organization under IRS section 501(c)3.&nbsp\;</span><br style="color: rgb(29\, 33\, 41)\; font-family: Helvetica\, Arial\, sans-serif\; font-size: 14px\;" />\n<span style="color: rgb(29\, 33\, 41)\; font-family: Helvetica\, Arial\, sans-serif\; font-size: 14px\;">All donations made to help with this event are tax deductible. If you want to become a buckle sponsor or help in another way please message&nbsp\;</span><a class="profileLink" data-hovercard="/ajax/hovercard/user.php?id=1381945704&amp\;extragetparams=%7B%22fref%22%3A%22mentions%22%2C%22directed_target_id%22%3A672050803155590%7D" data-hovercard-prefer-more-content-show="1" href="https://www.facebook.com/jana.hazelbaker?fref=mentions" style="color: rgb(54\, 88\, 153)\; cursor: pointer\; text-decoration-line: none\; font-family: Helvetica\, Arial\, sans-serif\; font-size: 14px\;">Jana Hazelbaker</a><span style="color: rgb(29\, 33\, 41)\; font-family: Helvetica\, Arial\, sans-serif\; font-size: 14px\;">&nbsp\;or&nbsp\;</span><a class="profileLink" data-hovercard="/ajax/hovercard/user.php?id=703710041&amp\;extragetparams=%7B%22fref%22%3A%22mentions%22%2C%22directed_target_id%22%3A672050803155590%7D" data-hovercard-prefer-more-content-show="1" href="https://www.facebook.com/alainamholmes?fref=mentions" style="color: rgb(54\, 88\, 153)\; cursor: pointer\; text-decoration-line: none\; font-family: Helvetica\, Arial\, sans-serif\; font-size: 14px\;">Alaina Holmes</a><span style="color: rgb(29\, 33\, 41)\; font-family: Helvetica\, Arial\, sans-serif\; font-size: 14px\;">.</span>
LOCATION:Bourbon County Fairgrounds
UID:e.2874.18145
SEQUENCE:3
DTSTAMP:20260421T124205Z
URL:https://fortscott.com/events/details/doug-hazelbaker-memorial-ranch-rodeo-breakaway-calf-roping-and-steer-wresting-at-the-bourbon-county-fairgrounds-18145
END:VEVENT

END:VCALENDAR
