BEGIN:VCALENDAR
VERSION:2.0
PRODID:-//ChamberMaster//Event Calendar 2.0//EN
METHOD:PUBLISH
X-PUBLISHED-TTL:P3D
REFRESH-INTERVAL:P3D
CALSCALE:GREGORIAN
BEGIN:VEVENT
DTSTART:20220422T200000Z
DTEND:20220422T230000Z
X-MICROSOFT-CDO-ALLDAYEVENT:FALSE
SUMMARY:Downtown Clean-up Event
DESCRIPTION:Join us for the Downtown Clean-up Event as a Volunteer!\n\n\n\nVolunteers must register and sign a waiver form online by April 19th in order to receive a free event t-shirt:  click HERE to register!\n\n\n\nThe event will take place from 3-6pm\, with complimentary Marsha's Deli served to registered volunteers following the event at the Heritage Park Pavilion\, 1st & Main.\n\n\n\nSome volunteers and artists will also be doing projects during the day in addition to the 3-6pm timeframe.\n\n\n\nContact Chamber Downtown Division Chair\, Bailey Lyons\, with any questions:  620-224-7795
X-ALT-DESC;FMTTYPE=text/html:Join us for the Downtown Clean-up Event as a Volunteer!<br />\n<br />\nVolunteers must register and sign a waiver form online by April 19th in order to receive a free event t-shirt:&nbsp\; click <a href="https://www.jotform.com/form/220906422828052">HERE</a> to register!<br />\n<br />\nThe event will take place from 3-6pm\, with complimentary Marsha&#39\;s Deli served to registered volunteers following the event at the Heritage Park Pavilion\, 1st &amp\; Main.<br />\n<br />\nSome volunteers and artists will also be doing projects during the day in addition to the 3-6pm timeframe.<br />\n<br />\nContact Chamber Downtown Division Chair\, Bailey Lyons\, with any questions:&nbsp\; 620-224-7795
LOCATION:
UID:e.2874.25008
SEQUENCE:3
DTSTAMP:20260425T172539Z
URL:https://fortscott.com/events/details/downtown-clean-up-event-25008
END:VEVENT

END:VCALENDAR
