BEGIN:VCALENDAR
VERSION:2.0
PRODID:-//ChamberMaster//Event Calendar 2.0//EN
METHOD:PUBLISH
X-PUBLISHED-TTL:P3D
REFRESH-INTERVAL:P3D
CALSCALE:GREGORIAN
BEGIN:VEVENT
DTSTART:20220419T133000Z
DTEND:20220419T143000Z
X-MICROSOFT-CDO-ALLDAYEVENT:FALSE
SUMMARY:Downtown Meet & Greet
DESCRIPTION:Quarterly Downtown Meet & Greet Scheduled for April 19\, 2022\n\n\n\nThe Fort Scott Area Chamber of Commerce announces a Downtown Meet & Greet will be held Tuesday\, April 19th from 8:30-9:30 a.m. at Papa Don's Pizza\, 10 N. Main Street. \n\n\n\nThe Chamber will be reviewing plans for the Downtown Clean-up planned for April 22nd\, Big Kansas Road Trip coming May 5th-8th\, and other agenda items.\n\n\n\nThese informal\, quarterly meetings are hosted by the Chamber for downtown business owners\, representatives\, and community members to network and share ideas on events\, promotions and anything related to downtown.  Coffee\, juice and light refreshments will be served.\n\n\n\nContact the Chamber at 620-223-3566 with any questions.
X-ALT-DESC;FMTTYPE=text/html:<strong><u><span style="font-family:georgia\,serif\;"><span style="font-size:12.0pt\;">Quarterly Downtown Meet &amp\; Greet Scheduled for April 19\, 2022</span></span></u></strong><br />\n<br />\n<span style="font-family:georgia\,serif\;"><span style="font-size:12.0pt\;">The Fort Scott Area Chamber of Commerce announces a Downtown Meet &amp\; Greet will be held Tuesday\, April 19th from 8:30-9:30 a.m. at Papa Don&rsquo\;s Pizza\, 10 N. Main Street.&nbsp\;</span></span><br />\n<br />\n<span style="font-family:georgia\,serif\;"><span style="font-size:12.0pt\;">The Chamber will be reviewing plans for the Downtown Clean-up planned for April 22<sup>nd</sup>\, Big Kansas Road Trip coming May 5<sup>th</sup>-8<sup>th</sup>\, and other agenda items.</span></span><br />\n<br />\n<span style="font-family:georgia\,serif\;"><span style="font-size:12.0pt\;">These informal\, quarterly meetings are hosted by the Chamber for downtown business owners\, representatives\, and community members to network and share ideas on events\, promotions and anything related to downtown.&nbsp\; Coffee\, juice and light refreshments will be served.</span></span><br />\n<br />\n<span style="font-family:georgia\,serif\;"><span style="font-size:12.0pt\;">Contact the Chamber at 620-223-3566 with any questions. </span></span>
LOCATION:
UID:e.2874.25009
SEQUENCE:3
DTSTAMP:20260425T172539Z
URL:https://fortscott.com/events/details/downtown-meet-greet-25009
END:VEVENT

END:VCALENDAR
