BEGIN:VCALENDAR
VERSION:2.0
PRODID:-//ChamberMaster//Event Calendar 2.0//EN
METHOD:PUBLISH
X-PUBLISHED-TTL:P3D
REFRESH-INTERVAL:P3D
CALSCALE:GREGORIAN
BEGIN:VEVENT
DTSTART:20220409T150000Z
DTEND:20220409T210000Z
X-MICROSOFT-CDO-ALLDAYEVENT:FALSE
SUMMARY:Easter Activity at the Museum of Creativity
DESCRIPTION:Come celebrate Spring with us!\n\nAdmission is $3/person\n\nFun games including STEAM activities\n\nCool Crafts including free and paid projects. More details will be posted in discussion.\n\nDye a real egg for $1\n\nParticipate in our Egg Hunt. $5/12 eggs.\n\nMust pre-register.\n\n3 times to choose from: 11am\, 1pm or 3pm\n\nTo participate in our coloring contest email: fsmuseumofcreativity@gmail.com to get a printout of our picture.\n\nDrop completed picture off by Friday\, April 8th.\n\nEach person who attends our activity on April 9th will get a slip of paper to vote for their favorite.\n\nThe winner will be announced at 5:00pm on April 9th.\n\nWe also have our normal play area\, Gift Shop\, Snack Bar and Display Exhibits to enrich your visit to our Museum. We are a nonprofit and all funds raised go into supporting\, maintaining and improving the museum
X-ALT-DESC;FMTTYPE=text/html:<div class="kvgmc6g5 cxmmr5t8 oygrvhab hcukyx3x c1et5uql" style="overflow-wrap: break-word\; margin: 0px\; font-family: &quot\;Segoe UI Historic&quot\;\, &quot\;Segoe UI&quot\;\, Helvetica\, Arial\, sans-serif\; color: rgb(5\, 5\, 5)\; font-size: 15px\; background-color: rgb(255\, 255\, 255)\;">Come celebrate Spring with us!</div>\n\n<div class="cxmmr5t8 oygrvhab hcukyx3x c1et5uql o9v6fnle" style="overflow-wrap: break-word\; margin: 0.5em 0px 0px\; font-family: &quot\;Segoe UI Historic&quot\;\, &quot\;Segoe UI&quot\;\, Helvetica\, Arial\, sans-serif\; color: rgb(5\, 5\, 5)\; font-size: 15px\; background-color: rgb(255\, 255\, 255)\;">Admission is $3/person</div>\n\n<div class="cxmmr5t8 oygrvhab hcukyx3x c1et5uql o9v6fnle" style="overflow-wrap: break-word\; margin: 0.5em 0px 0px\; font-family: &quot\;Segoe UI Historic&quot\;\, &quot\;Segoe UI&quot\;\, Helvetica\, Arial\, sans-serif\; color: rgb(5\, 5\, 5)\; font-size: 15px\; background-color: rgb(255\, 255\, 255)\;">Fun games including STEAM activities</div>\n\n<div class="cxmmr5t8 oygrvhab hcukyx3x c1et5uql o9v6fnle" style="overflow-wrap: break-word\; margin: 0.5em 0px 0px\; font-family: &quot\;Segoe UI Historic&quot\;\, &quot\;Segoe UI&quot\;\, Helvetica\, Arial\, sans-serif\; color: rgb(5\, 5\, 5)\; font-size: 15px\; background-color: rgb(255\, 255\, 255)\;">Cool Crafts including free and paid projects. More details will be posted in discussion.</div>\n\n<div class="cxmmr5t8 oygrvhab hcukyx3x c1et5uql o9v6fnle" style="overflow-wrap: break-word\; margin: 0.5em 0px 0px\; font-family: &quot\;Segoe UI Historic&quot\;\, &quot\;Segoe UI&quot\;\, Helvetica\, Arial\, sans-serif\; color: rgb(5\, 5\, 5)\; font-size: 15px\; background-color: rgb(255\, 255\, 255)\;">Dye a real egg for $1</div>\n\n<div class="cxmmr5t8 oygrvhab hcukyx3x c1et5uql o9v6fnle" style="overflow-wrap: break-word\; margin: 0.5em 0px 0px\; font-family: &quot\;Segoe UI Historic&quot\;\, &quot\;Segoe UI&quot\;\, Helvetica\, Arial\, sans-serif\; color: rgb(5\, 5\, 5)\; font-size: 15px\; background-color: rgb(255\, 255\, 255)\;">Participate in our Egg Hunt. $5/12 eggs.<br />\nMust pre-register.<br />\n3 times to choose from: 11am\, 1pm or 3pm</div>\n\n<div class="cxmmr5t8 oygrvhab hcukyx3x c1et5uql o9v6fnle" style="overflow-wrap: break-word\; margin: 0.5em 0px 0px\; font-family: &quot\;Segoe UI Historic&quot\;\, &quot\;Segoe UI&quot\;\, Helvetica\, Arial\, sans-serif\; color: rgb(5\, 5\, 5)\; font-size: 15px\; background-color: rgb(255\, 255\, 255)\;">To participate in our coloring contest email: fsmuseumofcreativity@gmail.com to get a printout of our picture.<br />\nDrop completed picture off by Friday\, April 8th.<br />\nEach person who attends our activity on April 9th will get a slip of paper to vote for their favorite.<br />\nThe winner will be announced at 5:00pm on April 9th.</div>\n\n<div class="cxmmr5t8 oygrvhab hcukyx3x c1et5uql o9v6fnle" style="overflow-wrap: break-word\; margin: 0.5em 0px 0px\; font-family: &quot\;Segoe UI Historic&quot\;\, &quot\;Segoe UI&quot\;\, Helvetica\, Arial\, sans-serif\; color: rgb(5\, 5\, 5)\; font-size: 15px\; background-color: rgb(255\, 255\, 255)\;">We also have our normal play area\, Gift Shop\, Snack Bar and Display Exhibits to enrich your visit to our Museum. We are a nonprofit and all funds raised go into supporting\, maintaining and improving the museum</div>\n
LOCATION:Museum of Creativity
UID:e.2874.24987
SEQUENCE:3
DTSTAMP:20260425T190906Z
URL:https://fortscott.com/events/details/easter-activity-at-the-museum-of-creativity-24987
END:VEVENT

END:VCALENDAR
