BEGIN:VCALENDAR
VERSION:2.0
PRODID:-//ChamberMaster//Event Calendar 2.0//EN
METHOD:PUBLISH
X-PUBLISHED-TTL:P3D
REFRESH-INTERVAL:P3D
CALSCALE:GREGORIAN
BEGIN:VEVENT
DTSTART:20220416T160000Z
DTEND:20220416T170000Z
X-MICROSOFT-CDO-ALLDAYEVENT:FALSE
SUMMARY:Easter Egg Hunt at the Fulton Community Center
DESCRIPTION:The Fulton Community Center will host an Easter Egg Hunt April 16\, 2022 for children. This will start at 11:00 am. There will be a lot of prizes and candy for the kiddos. Bring your own baskets.
X-ALT-DESC;FMTTYPE=text/html:<span style="color: rgb(5\, 5\, 5)\; font-family: &quot\;Segoe UI Historic&quot\;\, &quot\;Segoe UI&quot\;\, Helvetica\, Arial\, sans-serif\; font-size: 15px\; white-space: pre-wrap\;">The Fulton Community Center will host an Easter Egg Hunt April 16\, 2022 for children. This will start at 11:00 am. There will be a lot of prizes and candy for the kiddos. Bring your own baskets.</span>
LOCATION:
UID:e.2874.25004
SEQUENCE:3
DTSTAMP:20260425T172723Z
URL:https://fortscott.com/events/details/easter-egg-hunt-at-the-fulton-community-center-25004
END:VEVENT

END:VCALENDAR
