BEGIN:VCALENDAR
VERSION:2.0
PRODID:-//ChamberMaster//Event Calendar 2.0//EN
METHOD:PUBLISH
X-PUBLISHED-TTL:P3D
REFRESH-INTERVAL:P3D
CALSCALE:GREGORIAN
BEGIN:VEVENT
DTSTART:20220409T160000Z
DTEND:20220409T163000Z
X-MICROSOFT-CDO-ALLDAYEVENT:FALSE
SUMMARY:Easter Egg Hunt in Gunn Park by Kiwanis\, 11am sharp!
DESCRIPTION:Easter Egg Hunt in Gunn Park hosted by Kiwanis\n\nStarts at 11am sharp\, don't be late or you'll miss it!\n\nShelter House 2
X-ALT-DESC;FMTTYPE=text/html:Easter Egg Hunt in Gunn Park hosted by Kiwanis<br />\nStarts at 11am sharp\, don&#39\;t be late or you&#39\;ll miss it!<br />\nShelter House 2
LOCATION:
UID:e.2874.24548
SEQUENCE:3
DTSTAMP:20260425T172656Z
URL:https://fortscott.com/events/details/easter-egg-hunt-in-gunn-park-by-kiwanis-11am-sharp-24548
END:VEVENT

END:VCALENDAR
