BEGIN:VCALENDAR
VERSION:2.0
PRODID:-//ChamberMaster//Event Calendar 2.0//EN
METHOD:PUBLISH
X-PUBLISHED-TTL:P3D
REFRESH-INTERVAL:P3D
CALSCALE:GREGORIAN
BEGIN:VEVENT
DTSTART;VALUE=DATE:20241012
DTEND;VALUE=DATE:20241014
TRANSP:TRANSPARENT
X-MICROSOFT-CDO-ALLDAYEVENT:TRUE
SUMMARY:EKTEC Rodeo (Eastern Kansas Timed Event Circuit)
DESCRIPTION:EKTEC Rodeo at the Bourbon County Fairgrounds\n\n(Eastern Kansas Timed Event Circuit)\n\nOctober 12th-13th
X-ALT-DESC;FMTTYPE=text/html:EKTEC Rodeo at the Bourbon County Fairgrounds<br />\n(Eastern Kansas Timed Event Circuit)<br />\nOctober 12th-13th
LOCATION:
UID:e.2874.30262
SEQUENCE:3
DTSTAMP:20260425T014246Z
URL:https://fortscott.com/events/details/ektec-rodeo-eastern-kansas-timed-event-circuit-30262
END:VEVENT

END:VCALENDAR
