BEGIN:VCALENDAR
VERSION:2.0
PRODID:-//ChamberMaster//Event Calendar 2.0//EN
METHOD:PUBLISH
X-PUBLISHED-TTL:P3D
REFRESH-INTERVAL:P3D
CALSCALE:GREGORIAN
BEGIN:VEVENT
DTSTART:20210925T140000Z
DTEND:20210925T220000Z
X-MICROSOFT-CDO-ALLDAYEVENT:FALSE
SUMMARY:Estate Sale of Minnie Lou Allen - Friday & Saturday
DESCRIPTION:Estate Sale of Minnie Lou Allen\n\nFriday & Saturday\, September 24th & 25th\n\n9am to 5pm both days\n\n\n\n649 Marblecrest Terrace
X-ALT-DESC;FMTTYPE=text/html:Estate Sale of Minnie Lou Allen<br />\nFriday &amp\; Saturday\, September 24th &amp\; 25th<br />\n9am to 5pm both days<br />\n<br />\n649 Marblecrest Terrace
LOCATION:
UID:e.2874.22055
SEQUENCE:3
DTSTAMP:20260421T124333Z
URL:https://fortscott.com/events/details/estate-sale-of-minnie-lou-allen-09-25-2021-22055
END:VEVENT

END:VCALENDAR
