BEGIN:VCALENDAR
VERSION:2.0
PRODID:-//ChamberMaster//Event Calendar 2.0//EN
METHOD:PUBLISH
X-PUBLISHED-TTL:P3D
REFRESH-INTERVAL:P3D
CALSCALE:GREGORIAN
BEGIN:VEVENT
DTSTART:20210604T130000Z
DTEND:20210604T190000Z
X-MICROSOFT-CDO-ALLDAYEVENT:FALSE
SUMMARY:Extrusions/Win-Vent Customer/Employee Appreciation Golf Outing
DESCRIPTION:Extrusions/Winvent Customer/Employee Appreciation golf Outing
X-ALT-DESC;FMTTYPE=text/html:Extrusions/Winvent Customer/Employee Appreciation golf Outing
LOCATION:Woodland Hills Golf Course
UID:e.2874.15877
SEQUENCE:3
DTSTAMP:20260421T164351Z
URL:https://fortscott.com/events/details/extrusions-win-vent-customer-employee-appreciation-golf-outing-15877
END:VEVENT

END:VCALENDAR
