BEGIN:VCALENDAR
VERSION:2.0
PRODID:-//ChamberMaster//Event Calendar 2.0//EN
METHOD:PUBLISH
X-PUBLISHED-TTL:P3D
REFRESH-INTERVAL:P3D
CALSCALE:GREGORIAN
BEGIN:VEVENT
DTSTART:20240914T140000Z
DTEND:20240914T220000Z
X-MICROSOFT-CDO-ALLDAYEVENT:FALSE
SUMMARY:Fall Off Road 101 Course at Kansas Rocks Recreation Park
DESCRIPTION:Off Roading 101 Course Pre-Registration   $65 Per Vehicle.\n\nSept 14th 2024\, 9:00 a.m.- 5:00 p.m.\n\nKansas Rocks Recreation Park\n\nBring Your Lunch.\n\n\n\nAbout the Course:\n\nIf you are new to the sport of off-roading or even if you have been in it awhile and want to learn more about how to wheel\, this is the course for you!\n\n \nIn this course you will learn:\n\n\n	Proper driving techniques over various terrain\n	How to Spot effectively\n	How to protect the environment\n	About your vehicle\n	Equipment\n	Political impact on the sport\n\n\n \nAgenda for the 101 course:\n\n\n	9am: Class room session to cover several topics and a Q&A in the morning\n	11:30am: Break for lunch. (Bring your own lunch.)\n	12:15: Head to the trails for the rest of the day to learn hands on.\n\n\n\nWhat you will get in the 101 course:\n\n\n	Entry into the park for the day.\n	A guide book for off-roading.\n	Guided on-trail teaching by park managers & board members\n\n\nThis class will be restricted to the first 50 entries in order to be able to give quality instruction to the students.\n\n\n\n*Disclaimer: Please keep in mind that off-roading may put your vehicle at risk for tree rubbing and minor damage\, we strive to keep you and your vehicle safe\, but please keep this in mind when you sign up for the class and waivers for the park!
X-ALT-DESC;FMTTYPE=text/html:<span style="box-sizing: inherit\; font-weight: 700\; color: rgb(20\, 24\, 39)\; font-family: &quot\;Helvetica Neue&quot\;\, Helvetica\, -apple-system\, BlinkMacSystemFont\, Roboto\, Arial\, sans-serif\; font-size: 18px\;">Off Roading 101 Course</span><span style="color: rgb(20\, 24\, 39)\; font-family: &quot\;Helvetica Neue&quot\;\, Helvetica\, -apple-system\, BlinkMacSystemFont\, Roboto\, Arial\, sans-serif\; font-size: 18px\;">&nbsp\;</span><span style="box-sizing: inherit\; font-weight: 700\; color: rgb(20\, 24\, 39)\; font-family: &quot\;Helvetica Neue&quot\;\, Helvetica\, -apple-system\, BlinkMacSystemFont\, Roboto\, Arial\, sans-serif\; font-size: 18px\;">Pre-Registration&nbsp\;</span><span style="color: rgb(20\, 24\, 39)\; font-family: &quot\;Helvetica Neue&quot\;\, Helvetica\, -apple-system\, BlinkMacSystemFont\, Roboto\, Arial\, sans-serif\; font-size: 18px\;">&ndash\;&nbsp\;</span><span style="box-sizing: inherit\; font-weight: 700\; color: rgb(20\, 24\, 39)\; font-family: &quot\;Helvetica Neue&quot\;\, Helvetica\, -apple-system\, BlinkMacSystemFont\, Roboto\, Arial\, sans-serif\; font-size: 18px\;">$65 Per Vehicle.</span><br style="box-sizing: inherit\; color: rgb(20\, 24\, 39)\; font-family: &quot\;Helvetica Neue&quot\;\, Helvetica\, -apple-system\, BlinkMacSystemFont\, Roboto\, Arial\, sans-serif\; font-size: 18px\;" />\n<span style="color: rgb(20\, 24\, 39)\; font-family: &quot\;Helvetica Neue&quot\;\, Helvetica\, -apple-system\, BlinkMacSystemFont\, Roboto\, Arial\, sans-serif\; font-size: 18px\;">Sept 14th 2024\, 9:00 a.m.- 5:00 p.m.</span><br style="box-sizing: inherit\; color: rgb(20\, 24\, 39)\; font-family: &quot\;Helvetica Neue&quot\;\, Helvetica\, -apple-system\, BlinkMacSystemFont\, Roboto\, Arial\, sans-serif\; font-size: 18px\;" />\n<span style="color: rgb(20\, 24\, 39)\; font-family: &quot\;Helvetica Neue&quot\;\, Helvetica\, -apple-system\, BlinkMacSystemFont\, Roboto\, Arial\, sans-serif\; font-size: 18px\;">Kansas Rocks Recreation Park</span><br style="box-sizing: inherit\; color: rgb(20\, 24\, 39)\; font-family: &quot\;Helvetica Neue&quot\;\, Helvetica\, -apple-system\, BlinkMacSystemFont\, Roboto\, Arial\, sans-serif\; font-size: 18px\;" />\n<span style="color: rgb(20\, 24\, 39)\; font-family: &quot\;Helvetica Neue&quot\;\, Helvetica\, -apple-system\, BlinkMacSystemFont\, Roboto\, Arial\, sans-serif\; font-size: 18px\;">Bring Your Lunch.</span><br />\n<br />\n<span style="box-sizing: inherit\; font-weight: 700\; color: rgb(20\, 24\, 39)\; font-family: &quot\;Helvetica Neue&quot\;\, Helvetica\, -apple-system\, BlinkMacSystemFont\, Roboto\, Arial\, sans-serif\; font-size: 18px\;">About the Course:</span><br style="box-sizing: inherit\; color: rgb(20\, 24\, 39)\; font-family: &quot\;Helvetica Neue&quot\;\, Helvetica\, -apple-system\, BlinkMacSystemFont\, Roboto\, Arial\, sans-serif\; font-size: 18px\;" />\n<span style="color: rgb(20\, 24\, 39)\; font-family: &quot\;Helvetica Neue&quot\;\, Helvetica\, -apple-system\, BlinkMacSystemFont\, Roboto\, Arial\, sans-serif\; font-size: 18px\;">If you are new to the sport of off-roading or even if you have been in it awhile and want to learn more about how to wheel\, this is the course for you!</span><br />\n&nbsp\;\n<p style="box-sizing: inherit\; margin-top: 0px\; margin-right: 0px\; margin-bottom: var(--tec-spacer-3)\; margin-left: 0px\; font-size: var(--tec-font-size-4)\; line-height: var(--tec-line-height-2)\; color: rgb(20\, 24\, 39)\; font-family: &quot\;Helvetica Neue&quot\;\, Helvetica\, -apple-system\, BlinkMacSystemFont\, Roboto\, Arial\, sans-serif\;"><span style="box-sizing: inherit\; font-weight: 700\;">In this course you will learn:</span></p>\n\n<ul style="box-sizing: border-box\; margin-top: 0px\; margin-right: 0px\; margin-bottom: var(--tec-spacer-3)\; margin-left: 0px\; padding-right: 0px\; padding-left: 0px\; list-style: none\; font-size: var(--tec-font-size-4)\; line-height: var(--tec-line-height-2)\; color: rgb(20\, 24\, 39)\; font-family: &quot\;Helvetica Neue&quot\;\, Helvetica\, -apple-system\, BlinkMacSystemFont\, Roboto\, Arial\, sans-serif\;">\n	<li style="box-sizing: inherit\; position: relative\; padding-left: 12px\; margin: 8px 0px\;">Proper driving techniques over various terrain</li>\n	<li style="box-sizing: inherit\; position: relative\; padding-left: 12px\; margin: 8px 0px\;">How to Spot effectively</li>\n	<li style="box-sizing: inherit\; position: relative\; padding-left: 12px\; margin: 8px 0px\;">How to protect the environment</li>\n	<li style="box-sizing: inherit\; position: relative\; padding-left: 12px\; margin: 8px 0px\;">About your vehicle</li>\n	<li style="box-sizing: inherit\; position: relative\; padding-left: 12px\; margin: 8px 0px\;">Equipment</li>\n	<li style="box-sizing: inherit\; position: relative\; padding-left: 12px\; margin: 8px 0px\;">Political impact on the sport</li>\n</ul>\n\n<div style="box-sizing: inherit\; position: relative\; padding-left: 12px\; margin: 8px 0px\;">&nbsp\;\n<p style="box-sizing: inherit\; margin-top: 0px\; margin-right: 0px\; margin-bottom: var(--tec-spacer-3)\; margin-left: 0px\; font-size: var(--tec-font-size-4)\; line-height: var(--tec-line-height-2)\; color: rgb(20\, 24\, 39)\; font-family: &quot\;Helvetica Neue&quot\;\, Helvetica\, -apple-system\, BlinkMacSystemFont\, Roboto\, Arial\, sans-serif\;"><span style="box-sizing: inherit\; font-weight: 700\;">Agenda for the 101 course:</span></p>\n\n<ul style="box-sizing: border-box\; margin-top: 0px\; margin-right: 0px\; margin-bottom: var(--tec-spacer-3)\; margin-left: 0px\; padding-right: 0px\; padding-left: 0px\; list-style: none\; font-size: var(--tec-font-size-4)\; line-height: var(--tec-line-height-2)\; color: rgb(20\, 24\, 39)\; font-family: &quot\;Helvetica Neue&quot\;\, Helvetica\, -apple-system\, BlinkMacSystemFont\, Roboto\, Arial\, sans-serif\;">\n	<li style="box-sizing: inherit\; position: relative\; padding-left: 12px\; margin: 8px 0px\;">9am: Class room session to cover several topics and a Q&amp\;A in the morning</li>\n	<li style="box-sizing: inherit\; position: relative\; padding-left: 12px\; margin: 8px 0px\;">11:30am: Break for lunch. (Bring your own lunch.)</li>\n	<li style="box-sizing: inherit\; position: relative\; padding-left: 12px\; margin: 8px 0px\;">12:15: Head to the trails for the rest of the day to learn hands on.</li>\n</ul>\n\n<div style="box-sizing: inherit\; position: relative\; padding-left: 12px\; margin: 8px 0px\;">\n<p style="box-sizing: inherit\; margin-top: 0px\; margin-right: 0px\; margin-bottom: var(--tec-spacer-3)\; margin-left: 0px\; font-size: var(--tec-font-size-4)\; line-height: var(--tec-line-height-2)\; color: rgb(20\, 24\, 39)\; font-family: &quot\;Helvetica Neue&quot\;\, Helvetica\, -apple-system\, BlinkMacSystemFont\, Roboto\, Arial\, sans-serif\;"><span style="box-sizing: inherit\; font-weight: 700\;">What you will get in the 101 course:</span></p>\n\n<ul style="box-sizing: border-box\; margin-top: 0px\; margin-right: 0px\; margin-bottom: var(--tec-spacer-3)\; margin-left: 0px\; padding-right: 0px\; padding-left: 0px\; list-style: none\; font-size: var(--tec-font-size-4)\; line-height: var(--tec-line-height-2)\; color: rgb(20\, 24\, 39)\; font-family: &quot\;Helvetica Neue&quot\;\, Helvetica\, -apple-system\, BlinkMacSystemFont\, Roboto\, Arial\, sans-serif\;">\n	<li style="box-sizing: inherit\; position: relative\; padding-left: 12px\; margin: 8px 0px\;">Entry into the park for the day.</li>\n	<li style="box-sizing: inherit\; position: relative\; padding-left: 12px\; margin: 8px 0px\;">A guide book for off-roading.</li>\n	<li style="box-sizing: inherit\; position: relative\; padding-left: 12px\; margin: 8px 0px\;">Guided on-trail teaching by park managers &amp\; board members</li>\n</ul>\n\n<p style="box-sizing: inherit\; margin-top: 0px\; margin-right: 0px\; margin-bottom: var(--tec-spacer-3)\; margin-left: 0px\; font-size: var(--tec-font-size-4)\; line-height: var(--tec-line-height-2)\; color: rgb(20\, 24\, 39)\; font-family: &quot\;Helvetica Neue&quot\;\, Helvetica\, -apple-system\, BlinkMacSystemFont\, Roboto\, Arial\, sans-serif\;"><span style="box-sizing: inherit\; color: rgb(0\, 0\, 0)\;"><a style="box-sizing: inherit\; background-color: transparent\; color: rgb(0\, 0\, 0)\; text-decoration-line: underline\; transition: var(--tec-transition-color)\; border-bottom: 1px solid var(--tec-color-link-accent)\;">This class will be restricted to the first 50 entries in order to be able to give quality instruction to the students.</a></span><br />\n<br />\n<span style="color: rgb(20\, 24\, 39)\; font-family: &quot\;Helvetica Neue&quot\;\, Helvetica\, -apple-system\, BlinkMacSystemFont\, Roboto\, Arial\, sans-serif\; font-size: 18px\;">*Disclaimer: Please keep in mind that off-roading may put your vehicle at risk for tree rubbing and minor damage\, we strive to keep you and your vehicle safe\, but please keep this in mind when you sign up for the class and waivers for the park!</span></p>\n</div>\n</div>\n
LOCATION:
UID:e.2874.29894
SEQUENCE:3
DTSTAMP:20260420T074450Z
URL:https://fortscott.com/events/details/fall-off-road-101-course-at-kansas-rocks-recreation-park-29894
END:VEVENT

END:VCALENDAR
