BEGIN:VCALENDAR
VERSION:2.0
PRODID:-//ChamberMaster//Event Calendar 2.0//EN
METHOD:PUBLISH
X-PUBLISHED-TTL:P3D
REFRESH-INTERVAL:P3D
CALSCALE:GREGORIAN
BEGIN:VEVENT
DTSTART;VALUE=DATE:20210910
DTEND;VALUE=DATE:20210912
TRANSP:TRANSPARENT
X-MICROSOFT-CDO-ALLDAYEVENT:TRUE
SUMMARY:FALL TOWN-WIDE GARAGE SALE IN FORT SCOTT!
DESCRIPTION:Friday & Saturday\, September 10th & 11th\n\n\n\nVIEW A PDF OF THE MAP AND ADDRESS LISTINGS BY CLICKING HERE!\n\n\n\nTO VIEW ON GOOGLE MAPS\, CLICK HERE FOR LINK!\n\n\n\n \n1. Decluttering your house is good for you! \n\n2. We will advertise your sale for you. \n\n3. Conveniently get all your second-hand shopping done in one day. Last year we had over 40-yard sales for residents to visit. Our Goal is 50+\n\n4. Support the people in your local community. Participating in the yard sale is a great way to get to know your neighbors and help them gain a little extra pocket change.\n \n\n\n\n\n\n\n\n\n\n\nWE WOULD LIKE TO THANK ALL THE RETAILERS FOR YOUR BUSINESS ADS AND ALL WHO PARTICIPATED IN THE GARAGE SALE!
X-ALT-DESC;FMTTYPE=text/html:<span style="color:#0000CD\;"><span style="font-size:18px\;"><strong>Friday &amp\; Saturday\, September&nbsp\;10th &amp\; 11th</strong></span></span><br />\n<br />\n<span style="font-size:18px\;"><span style="font-family:comic sans ms\;"><strong>VIEW A PDF OF THE MAP AND ADDRESS LISTINGS BY CLICKING <a href="https://chambermaster.blob.core.windows.net/userfiles/UserFiles/chambers/2874/File/FALLTOWNWIDEMAPANDADDRESSLIST.pdf"><span style="color:#FF0000\;">HERE!</span></a></strong><br />\n<br />\n<strong>TO VIEW ON GOOGLE MAPS\, CLICK <a href="https://www.google.com/maps/d/edit?hl=en&amp\;mid=1elZg0Q94gjYYSNoDyS_-q1xW73zh9WHn&amp\;ll=37.78358426550126%2C-94.7394108&amp\;z=12"><span style="color:#0000FF\;"><u>HERE</u></span></a> FOR LINK!</strong></span></span><br />\n<br />\n&nbsp\;\n<h3 style="box-sizing: border-box\; font-family: proxima-nova\; line-height: 1.1\; color: rgb(63\, 63\, 63)\; margin-top: 28px\; margin-bottom: 14px\; font-size: 23.99px\;"><strong><span style="font-size:12px\;">1. Decluttering your house is good for you!&nbsp\;<br />\n2.&nbsp\;<span style="box-sizing: border-box\;">We will advertise your sale for you.&nbsp\;</span></span><br />\n<span style="font-size:12px\;"><span style="box-sizing: border-box\;">3.&nbsp\;<span style="box-sizing: border-box\;">Conveniently get all your second-hand shopping done in one day. Last year we had over 40-yard sales for residents to visit. Our Goal is 50+</span></span></span><br />\n<span style="font-size:12px\;"><span style="box-sizing: border-box\;"><span style="box-sizing: border-box\;">4.&nbsp\;<span style="box-sizing: border-box\;">Support the people in your local community. Participating in the yard sale is a great way to get to know your neighbors and help them gain a little extra pocket change.</span></span></span></span></strong></h3>\n&nbsp\;\n\n<div style="font-size: small\;">\n<div data-smartmail="gmail_signature" dir="ltr" style="">\n<div dir="ltr" style="">\n<div dir="ltr" style="">\n<div dir="ltr" style="">\n<div dir="ltr" style="">\n<div dir="ltr" style="">\n<div dir="ltr" style="">\n<div dir="ltr" style="">\n<div dir="ltr" style=""><span style="font-family:comic sans ms\;"><span style="color:#0000FF\;"><span style="font-size:14px\;"><b>WE WOULD LIKE TO THANK ALL THE RETAILERS FOR YOUR BUSINESS ADS AND ALL WHO PARTICIPATED IN THE GARAGE SALE!</b></span></span></span></div>\n</div>\n</div>\n</div>\n</div>\n</div>\n</div>\n</div>\n</div>\n</div>\n
LOCATION:
UID:e.2874.20164
SEQUENCE:3
DTSTAMP:20260421T123846Z
URL:https://fortscott.com/events/details/fall-town-wide-garage-sale-in-fort-scott-20164
END:VEVENT

END:VCALENDAR
