BEGIN:VCALENDAR
VERSION:2.0
PRODID:-//ChamberMaster//Event Calendar 2.0//EN
METHOD:PUBLISH
X-PUBLISHED-TTL:P3D
REFRESH-INTERVAL:P3D
CALSCALE:GREGORIAN
BEGIN:VEVENT
DTSTART:20240221T233000Z
DTEND:20240222T003000Z
X-MICROSOFT-CDO-ALLDAYEVENT:FALSE
SUMMARY:Fort Scott Community College Community Conversation
DESCRIPTION:Fort Scott Community College Community Conversation\n\nEllis Fine Arts Center Meeting Rooms\n\n2108 S. Horton St.\n\n5:30pm\n\nAll are welcome!\n\nThe focus this session will be on the College's identity.
X-ALT-DESC;FMTTYPE=text/html:Fort Scott Community College Community Conversation<br />\nEllis Fine Arts Center Meeting Rooms<br />\n2108 S. Horton St.<br />\n5:30pm<br />\nAll are welcome!<br />\nThe focus this session will be on the College&#39\;s identity.<br />\n&nbsp\;
LOCATION:
UID:e.2874.30689
SEQUENCE:3
DTSTAMP:20260426T040708Z
URL:https://fortscott.com/events/details/fort-scott-community-college-community-conversation-30689
END:VEVENT

END:VCALENDAR
