BEGIN:VCALENDAR
VERSION:2.0
PRODID:-//ChamberMaster//Event Calendar 2.0//EN
METHOD:PUBLISH
X-PUBLISHED-TTL:P3D
REFRESH-INTERVAL:P3D
CALSCALE:GREGORIAN
BEGIN:VEVENT
DTSTART:20220418T233000Z
DTEND:20220419T010000Z
X-MICROSOFT-CDO-ALLDAYEVENT:FALSE
SUMMARY:Fort Scott Farmer's Market Vendor Meeting
DESCRIPTION:We will be having a kickoff meeting for anyone interested in being a vendor at this year's Fort Scott Farmers Market. It will be Monday April 18th at the Healthy Bourbon County Action Team Office 104 N National at 6:30 p.m. Any questions\, please call 620-215-3889!
X-ALT-DESC;FMTTYPE=text/html:<div style="color: rgb(34\, 34\, 34)\; font-family: Arial\, Helvetica\, sans-serif\; font-size: small\; background-color: rgb(255\, 255\, 255)\;"><span style="color: rgb(5\, 5\, 5)\; font-family: &quot\;Segoe UI Historic&quot\;\, &quot\;Segoe UI&quot\;\, Helvetica\, Arial\, sans-serif\; font-size: 15px\; white-space: pre-wrap\;">We will be having a kickoff meeting for anyone interested in being a vendor at this year&#39\;s Fort Scott Farmers Market. It will be Monday April 18th at the Healthy Bourbon County Action Team Office 104 N National at 6:30 p.m. Any questions\, please call 620-215-3889!</span></div>\n\n<div>&nbsp\;</div>\n
LOCATION:104 N National
UID:e.2874.24990
SEQUENCE:3
DTSTAMP:20260425T173013Z
URL:https://fortscott.com/events/details/fort-scott-farmer-s-market-vendor-meeting-24990
END:VEVENT

END:VCALENDAR
