BEGIN:VCALENDAR
VERSION:2.0
PRODID:-//ChamberMaster//Event Calendar 2.0//EN
METHOD:PUBLISH
X-PUBLISHED-TTL:P3D
REFRESH-INTERVAL:P3D
CALSCALE:GREGORIAN
BEGIN:VEVENT
DTSTART;VALUE=DATE:20220423
DTEND;VALUE=DATE:20220425
TRANSP:TRANSPARENT
X-MICROSOFT-CDO-ALLDAYEVENT:TRUE
SUMMARY:Fort Scott Mud Run - Charity
DESCRIPTION:Come out to watch! Come out for fun in the shallow mud!  OR.. come out to compete for bragging rights in the 24" DEEP BOG PIT!  There's a little bit of fun for everyone!\n\n \n\nTaking place at the Bourbon County Fairgrounds in Fort Scott\, KS is the 1st Annual MUD RUN FOR CHARITY hosted by the Kansas Ram Club! All road-legal 4x4 Trucks\, Jeeps\, and SUV's are welcome to enter. Spectators are welcome and are encouraged to make this a family event!\n\n \n\nThis is a 2-Day Charity Event that will be held April 23 - 24\, 2022. All funds will go to support youth activities through the Fort Scott Recreation Commission.\n\n \n\nConcessions on site.
X-ALT-DESC;FMTTYPE=text/html:<p class="font_8" style="margin: 0px\; padding: 0px\; border: 0px\; outline: 0px\; vertical-align: baseline\; background-image: initial\; background-position: initial\; background-size: initial\; background-repeat: initial\; background-attachment: initial\; background-origin: initial\; background-clip: initial\; pointer-events: auto\; font-size: 18px\; color: rgb(var(--color_15))\;"><span style="margin: 0px\; padding: 0px\; border: 0px\; outline: 0px\; vertical-align: baseline\; background-image: initial\; background-position: initial\; background-size: initial\; background-repeat: initial\; background-attachment: initial\; background-origin: initial\; background-clip: initial\;">Come out to watch! Come out for fun in the shallow mud!&nbsp\; OR.. come out to compete for bragging rights in the 24&quot\; DEEP BOG PIT!&nbsp\; There&#39\;s a little bit of fun for everyone!</span></p>\n\n<p class="font_8" style="margin: 0px\; padding: 0px\; border: 0px\; outline: 0px\; vertical-align: baseline\; background-image: initial\; background-position: initial\; background-size: initial\; background-repeat: initial\; background-attachment: initial\; background-origin: initial\; background-clip: initial\; pointer-events: auto\; font-size: 18px\; color: rgb(var(--color_15))\;">&nbsp\;</p>\n\n<p class="font_8" style="margin: 0px\; padding: 0px\; border: 0px\; outline: 0px\; vertical-align: baseline\; background-image: initial\; background-position: initial\; background-size: initial\; background-repeat: initial\; background-attachment: initial\; background-origin: initial\; background-clip: initial\; pointer-events: auto\; font-size: 18px\; color: rgb(var(--color_15))\;"><span style="margin: 0px\; padding: 0px\; border: 0px\; outline: 0px\; vertical-align: baseline\; background-image: initial\; background-position: initial\; background-size: initial\; background-repeat: initial\; background-attachment: initial\; background-origin: initial\; background-clip: initial\;">Taking place at</span>&nbsp\;the Bourbon County Fairgrounds in Fort Scott\, KS is the 1st Annual MUD RUN FOR CHARITY hosted by the Kansas Ram Club! All road-legal 4x4 Trucks\, Jeeps\, and SUV&#39\;s are welcome to enter. Spectators are welcome and are encouraged to make this a family event!</p>\n\n<p class="font_8" style="margin: 0px\; padding: 0px\; border: 0px\; outline: 0px\; vertical-align: baseline\; background-image: initial\; background-position: initial\; background-size: initial\; background-repeat: initial\; background-attachment: initial\; background-origin: initial\; background-clip: initial\; pointer-events: auto\; font-size: 18px\; color: rgb(var(--color_15))\;">&nbsp\;</p>\n\n<p class="font_8" style="margin: 0px\; padding: 0px\; border: 0px\; outline: 0px\; vertical-align: baseline\; background-image: initial\; background-position: initial\; background-size: initial\; background-repeat: initial\; background-attachment: initial\; background-origin: initial\; background-clip: initial\; pointer-events: auto\; font-size: 18px\; color: rgb(var(--color_15))\;">This is a 2-Day Charity Event that will be held April 23 - 24\, 2022. All funds will go to support youth activities through the Fort Scott Recreation Commission.</p>\n\n<p class="font_8" style="margin: 0px\; padding: 0px\; border: 0px\; outline: 0px\; vertical-align: baseline\; background-image: initial\; background-position: initial\; background-size: initial\; background-repeat: initial\; background-attachment: initial\; background-origin: initial\; background-clip: initial\; pointer-events: auto\; font-size: 18px\; color: rgb(var(--color_15))\;"><span class="wixGuard" style="margin: 0px\; padding: 0px\; border: 0px\; outline: 0px\; vertical-align: baseline\; background-image: initial\; background-position: initial\; background-size: initial\; background-repeat: initial\; background-attachment: initial\; background-origin: initial\; background-clip: initial\;">&#8203\;</span></p>\n\n<p class="font_8" style="margin: 0px\; padding: 0px\; border: 0px\; outline: 0px\; vertical-align: baseline\; background-image: initial\; background-position: initial\; background-size: initial\; background-repeat: initial\; background-attachment: initial\; background-origin: initial\; background-clip: initial\; pointer-events: auto\; font-size: 18px\; color: rgb(var(--color_15))\;">Concessions on site.</p>\n
LOCATION:Bourbon County Fairgrounds 2102 Huntington Blvd
UID:e.2874.23947
SEQUENCE:3
DTSTAMP:20260425T172625Z
URL:https://fortscott.com/events/details/fort-scott-mud-run-charity-23947
END:VEVENT

END:VCALENDAR
