BEGIN:VCALENDAR
VERSION:2.0
PRODID:-//ChamberMaster//Event Calendar 2.0//EN
METHOD:PUBLISH
X-PUBLISHED-TTL:P3D
REFRESH-INTERVAL:P3D
CALSCALE:GREGORIAN
BEGIN:VEVENT
DTSTART:20180929T000000Z
DTEND:20180929T010000Z
X-MICROSOFT-CDO-ALLDAYEVENT:FALSE
SUMMARY:Friday Night Concert in the Park
DESCRIPTION:Friday Night Concert in the Park\n\nSponsored by the Fort Scott Area Chamber of Commerce\n\n\n\nOn Friday evening\, September 28th\, the show will feature a group of performers drawn from Allen\, Bourbon and Linn Counties. Some of the performers will be familiar to regular concert attendees while others will be making their first appearance. They are all very accomplished musicians and entertainers. The program will be similar to one presented by this group last year that was very well received.\n\nThis is part of the Friday night concert in the park series sponsored by the Fort Scott Area Chamber of Commerce. The performance will begin at 7:00 PM. In the event of inclement weather the concert will be moved to the FSCC Round Room at 2108 S. Horton.\n\nThe concert is free to the public. Because of limited seating\, you are encouraged to bring lawn chairs.\n\nThe concerts are held weekly from 7-8pm at the Heritage Park Pavilion on the corner of 1st & Main\, Downtown Fort Scott.\n\nThe concerts are organized by Ralph Carlson. If you or someone you know is interested in performing\, contact Ralph at rscarlson@classicnet.net.\n\n\n\nBring your lawn chair as seating is limited.
X-ALT-DESC;FMTTYPE=text/html:<p><font face="Arial" size="2">Friday Night Concert in the Park<br />\nSponsored by the Fort Scott Area Chamber of Commerce</font><br />\n<br />\nOn Friday evening\, September 28th\, the show will feature a group of performers drawn from Allen\, Bourbon and Linn Counties. Some of the performers will be familiar to regular concert attendees while others will be making their first appearance. They are all very accomplished musicians and entertainers. The program will be similar to one presented by this group last year that was very well received.</p>\n\n<p style="margin: 6px 0px\; font-family: Helvetica\, Arial\, sans-serif\; color: rgb(29\, 33\, 41)\; font-size: 14px\;">This is part of the Friday night concert in the park series sponsored by the Fort Scott Area Chamber of Commerce. The performance will begin at 7:00 PM. In the event of inclement weather the concert will be moved to the FSCC Round Room at 2108 S. Horton.</p>\n\n<p style="margin: 6px 0px 0px\; display: inline\; font-family: Helvetica\, Arial\, sans-serif\; color: rgb(29\, 33\, 41)\; font-size: 14px\;">The concert is free to the public. Because of limited seating\, you are encouraged to bring lawn chairs.</p>\n\n<p><font face="Arial" size="2">The concerts are held weekly from 7-8pm&nbsp\;at the Heritage Park Pavilion on the corner of 1st &amp\; Main\, Downtown Fort Scott.<br />\nThe concerts are organized by Ralph Carlson. If you or someone you know is interested in performing\, contact Ralph at rscarlson@classicnet.net.<br />\n<br />\nBring your lawn chair&nbsp\;as seating is limited.&nbsp\;</font></p>\n
LOCATION:1st & Main St.\, Downtown Fort Scott Heritage Park Pavilion
UID:e.2874.10225
SEQUENCE:3
DTSTAMP:20260423T194225Z
URL:https://fortscott.com/events/details/friday-night-concert-in-the-park-09-28-2018-10225
END:VEVENT

END:VCALENDAR
