BEGIN:VCALENDAR
VERSION:2.0
PRODID:-//ChamberMaster//Event Calendar 2.0//EN
METHOD:PUBLISH
X-PUBLISHED-TTL:P3D
REFRESH-INTERVAL:P3D
CALSCALE:GREGORIAN
BEGIN:VEVENT
DTSTART:20191011T233000Z
DTEND:20191012T010000Z
X-MICROSOFT-CDO-ALLDAYEVENT:FALSE
SUMMARY:Friday Night Concert in the Park - David Prickett
DESCRIPTION:Friday Night Concert in the Park - Heritage Pavillon \n\nSponsored by the Fort Scott Area Chamber of Commerce\n\n\n\nThis Fridays show will feature David Prickett on the guitar and vocal.  In addition there will be a open mike period for walk on musicians. David performs gospel\, classic country and old standard pop tunes.\n\n\n\nWeather permitting\, the show will take place indoors at the "Common Grounds Coffee Shop". The outside temperature is predicted to be in the low 50s at show time. David is one of the concert series  favorites. \n\n\n\nCome early and bring your lawn chair as seating is limited.\n\n\n\nThe concerts are organized by Ralph Carlson. If you or someone you know is interested in performing\, contact Ralph at rscarlson@classicnet.net.
X-ALT-DESC;FMTTYPE=text/html:<p><span style="font-size:14px\;"><font face="Arial">Friday Night Concert in the Park - Heritage Pavillon&nbsp\;</font></span><br style="font-family: Arial\; font-size: 14px\;" />\n<span style="font-family: Arial\; font-size: 14px\;">Sponsored by the Fort Scott Area Chamber of Commerce</span><br />\n<br />\n<span style="color: rgb(34\, 34\, 34)\; font-family: Arial\, Helvetica\, sans-serif\; font-size: small\;">This Fridays&nbsp\;show will feature David Prickett on the guitar and vocal.&nbsp\; In addition there will be a open mike period for walk on musicians.&nbsp\;David performs gospel\, classic country and old standard pop tunes.</span><br />\n<br />\n<span style="font-size:14px\;"><span style="color:#0000FF\;"><span style="font-family: Arial\, Helvetica\, sans-serif\;"><strong>Weather permitting\, the show will take place indoors at the </strong></span></span><font face="Arial"><span style="color: rgb(0\, 128\, 0)\;"><strong>&quot\;C</strong></span></font></span><span style="color: rgb(0\, 128\, 0)\;"><strong><span style="font-family: Arial\; font-size: 14px\;">ommon Grounds Coffee Shop&quot\;</span></strong></span><span style="font-size:14px\;"><span style="color:#0000FF\;"><span style="font-family: Arial\, Helvetica\, sans-serif\;"><strong>. The outside temperature is predicted to be in the low 50s at show time. David is one of the concert series&nbsp\; favorites. </strong></span></span></span><br />\n<br />\n<span style="color: rgb(34\, 34\, 34)\; font-family: Arial\, Helvetica\, sans-serif\; font-size: small\;">Come early and bring your lawn chair as seating is limited.</span><br />\n<br />\n<span style="font-size:14px\;"><font face="Arial">The concerts are organized by Ralph Carlson. If you or someone you know is interested in performing\, contact Ralph at rscarlson@classicnet.net.</font></span><br />\n&nbsp\;</p>\n
LOCATION:Common Grounds Coffee Shop
UID:e.2874.13546
SEQUENCE:3
DTSTAMP:20260420T113339Z
URL:https://fortscott.com/events/details/friday-night-concert-in-the-park-david-prickett-13546
END:VEVENT

END:VCALENDAR
