BEGIN:VCALENDAR
VERSION:2.0
PRODID:-//ChamberMaster//Event Calendar 2.0//EN
METHOD:PUBLISH
X-PUBLISHED-TTL:P3D
REFRESH-INTERVAL:P3D
CALSCALE:GREGORIAN
BEGIN:VEVENT
DTSTART:20191019T000000Z
DTEND:20191019T010000Z
X-MICROSOFT-CDO-ALLDAYEVENT:FALSE
SUMMARY:Friday Night Concert in the Park - Eugene Ware Youth Choir
DESCRIPTION:Friday Night Concert in the Park\n\nSponsored by the Fort Scott Area Chamber of Commerce\n\n\n\nEUGENE WARE YOUTH CHOIR PERFORMING AT THE HERITAGE PARK PAVILION 1ST & MAIN\n\n\n\nFRIDAY\, OCTOBER 18\,2019\n\n6:45 CALL/ 7-8PM SHOW\n\n\n\nBring your lawn chair as seating is limited.
X-ALT-DESC;FMTTYPE=text/html:<p><span style="font-size:14px\;"><font face="Arial">Friday Night Concert in the Park<br />\nSponsored by the Fort Scott Area Chamber of Commerce</font><br />\n<br />\n<font face="Arial">EUGENE WARE YOUTH CHOIR PERFORMING AT THE HERITAGE PARK PAVILION 1ST &amp\; MAIN<br />\n<br />\nFRIDAY\, OCTOBER 18\,2019<br />\n6:45 CALL/ 7-8PM SHOW<br />\n<br />\nBring your lawn chair&nbsp\;as seating is limited.&nbsp\;</font></span></p>\n
LOCATION:1st & Main St.\, Downtown Fort Scott Heritage Park Pavilion
UID:e.2874.13547
SEQUENCE:3
DTSTAMP:20260420T112947Z
URL:https://fortscott.com/events/details/friday-night-concert-in-the-park-eugene-ware-youth-choir-13547
END:VEVENT

END:VCALENDAR
