BEGIN:VCALENDAR
VERSION:2.0
PRODID:-//ChamberMaster//Event Calendar 2.0//EN
METHOD:PUBLISH
X-PUBLISHED-TTL:P3D
REFRESH-INTERVAL:P3D
CALSCALE:GREGORIAN
BEGIN:VEVENT
DTSTART:20191026T000000Z
DTEND:20191026T010000Z
X-MICROSOFT-CDO-ALLDAYEVENT:FALSE
SUMMARY:Friday Night Concert in the Park - performer to be determined
DESCRIPTION:Friday Night Concert in the Park\n\nSponsored by the Fort Scott Area Chamber of Commerce\n\n\n\nThe concerts are organized by Ralph Carlson. If you or someone you know is interested in performing\, contact Ralph at rscarlson@classicnet.net.\n\n\n\nBring your lawn chair as seating is limited.
X-ALT-DESC;FMTTYPE=text/html:<p><span style="font-size:14px\;"><font face="Arial">Friday Night Concert in the Park<br />\nSponsored by the Fort Scott Area Chamber of Commerce</font><br />\n<br />\n<font face="Arial">The concerts are organized by Ralph Carlson. If you or someone you know is interested in performing\, contact Ralph at rscarlson@classicnet.net.<br />\n<br />\nBring your lawn chair&nbsp\;as seating is limited.&nbsp\;</font></span></p>\n
LOCATION:1st & Main St.\, Downtown Fort Scott Heritage Park Pavilion
UID:e.2874.13548
SEQUENCE:3
DTSTAMP:20260420T113513Z
URL:https://fortscott.com/events/details/friday-night-concert-in-the-park-performer-to-be-determined-13548
END:VEVENT

END:VCALENDAR
