BEGIN:VCALENDAR
VERSION:2.0
PRODID:-//ChamberMaster//Event Calendar 2.0//EN
METHOD:PUBLISH
X-PUBLISHED-TTL:P3D
REFRESH-INTERVAL:P3D
CALSCALE:GREGORIAN
BEGIN:VEVENT
DTSTART:20191005T000000Z
DTEND:20191005T010000Z
X-MICROSOFT-CDO-ALLDAYEVENT:FALSE
SUMMARY:Friday Night Concert in the Park: Pioneer Sunflowers\, local area group performing eclectic music
DESCRIPTION:Friday Night Concert in the Park\n\nSponsored by the Fort Scott Area Chamber of Commerce\n\n \n\n\nThe Prairie Sunflowers\, a group of mostly local ladies\, will perform on Friday\, October 4th\, at the Friday night concert. The concert begins at 7:00 PM at the Pavilion at First and Main. In case of inclement weather\, it will be hed at the Common Grounds Coffee Shop.\n\n\n\n \n\n\n\nThis group performs gospel\, bluegrass\, and standards. The Sunflowers consist of dulcimers\, a fiddle\, an autoharp\, and a guitar. Their music is fun to listen to and very enjoyable.\n\n\n\nMembers of the group include Sandy Hemphill\, Marilyn Adcock\, Jean Strader\, Joyce Love\, Diane Spencer\, all from Fort Scott\, and Charlena Burns from Mound City\, and Chery Nelson from Columbus.\n\n\n\n \n\n\n\nIn addition to the Prairie Sunflower group\, the Woods family\, from Prescott\, will perform. Kevin\, Kathy\, and Leia Wood will sing some gospel and some country standards. Sometimes Nevaeh\,\n\n\n\nLeia's daughter\, age 3\, sings with the family. It is always a teat to hear this family sing! The night will prove to be a very good concert!\n\n\n\n \n\n\n\nDon't miss it!\n\n\n\n \n\n\n\nPlease bring lawn chairs because there is limited seating.\n\n\n\n\n\n\nBring your lawn chair as seating is limited.
X-ALT-DESC;FMTTYPE=text/html:<p><span style="font-size:16px\;"><font face="Arial">Friday Night Concert in the Park<br />\nSponsored by the Fort Scott Area Chamber of Commerce</font></span><br />\n&nbsp\;</p>\n\n<div data-block="true" data-editor="cq4qe" data-offset-key="74vtn-0-0" style="font-family: Helvetica\, Arial\, sans-serif\; color: rgb(28\, 30\, 33)\; font-size: 12px\; white-space: pre-wrap\;">\n<div class="_1mf _1mj" data-offset-key="74vtn-0-0" style="position: relative\; direction: ltr\; font-family: inherit\;"><span style="font-size:16px\;"><span data-offset-key="74vtn-0-0" style="font-family: inherit\;">The Prairie Sunflowers\, a group of mostly local ladies\, will perform on Friday\, October 4th\, at the Friday night concert. The concert begins at 7:00 PM at the Pavilion at First and Main. In case of inclement weather\, it will be hed at the Common Grounds Coffee Shop.</span></span></div>\n</div>\n\n<div data-block="true" data-editor="cq4qe" data-offset-key="f9ehf-0-0" style="font-family: Helvetica\, Arial\, sans-serif\; color: rgb(28\, 30\, 33)\; font-size: 12px\; white-space: pre-wrap\;">\n<div class="_1mf _1mj" data-offset-key="f9ehf-0-0" style="position: relative\; direction: ltr\; font-family: inherit\;">&nbsp\;</div>\n</div>\n\n<div data-block="true" data-editor="cq4qe" data-offset-key="esu2q-0-0" style="font-family: Helvetica\, Arial\, sans-serif\; color: rgb(28\, 30\, 33)\; font-size: 12px\; white-space: pre-wrap\;">\n<div class="_1mf _1mj" data-offset-key="esu2q-0-0" style="position: relative\; direction: ltr\; font-family: inherit\;"><span style="font-size:16px\;"><span data-offset-key="esu2q-0-0" style="font-family: inherit\;">This group performs gospel\, bluegrass\, and standards. The Sunflowers consist of dulcimers\, a fiddle\, an autoharp\, and a guitar. Their music is fun to listen to and very enjoyable.</span></span></div>\n</div>\n\n<div data-block="true" data-editor="cq4qe" data-offset-key="1uv0s-0-0" style="font-family: Helvetica\, Arial\, sans-serif\; color: rgb(28\, 30\, 33)\; font-size: 12px\; white-space: pre-wrap\;">\n<div class="_1mf _1mj" data-offset-key="1uv0s-0-0" style="position: relative\; direction: ltr\; font-family: inherit\;"><span style="font-size:16px\;"><span data-offset-key="1uv0s-0-0" style="font-family: inherit\;">Members of the group include Sandy Hemphill\, Marilyn Adcock\, Jean Strader\, Joyce Love\, Diane Spencer\, all from Fort Scott\, and Charlena Burns from Mound City\, and Chery Nelson from Columbus.</span></span></div>\n</div>\n\n<div data-block="true" data-editor="cq4qe" data-offset-key="7k450-0-0" style="font-family: Helvetica\, Arial\, sans-serif\; color: rgb(28\, 30\, 33)\; font-size: 12px\; white-space: pre-wrap\;">\n<div class="_1mf _1mj" data-offset-key="7k450-0-0" style="position: relative\; direction: ltr\; font-family: inherit\;">&nbsp\;</div>\n</div>\n\n<div data-block="true" data-editor="cq4qe" data-offset-key="egb5l-0-0" style="font-family: Helvetica\, Arial\, sans-serif\; color: rgb(28\, 30\, 33)\; font-size: 12px\; white-space: pre-wrap\;">\n<div class="_1mf _1mj" data-offset-key="egb5l-0-0" style="position: relative\; direction: ltr\; font-family: inherit\;"><span style="font-size:16px\;"><span data-offset-key="egb5l-0-0" style="font-family: inherit\;">In addition to the Prairie Sunflower group\, the Woods family\, from Prescott\, will perform. Kevin\, Kathy\, and Leia Wood will sing some gospel and some country standards. Sometimes Nevaeh\,</span></span></div>\n</div>\n\n<div data-block="true" data-editor="cq4qe" data-offset-key="2aoer-0-0" style="font-family: Helvetica\, Arial\, sans-serif\; color: rgb(28\, 30\, 33)\; font-size: 12px\; white-space: pre-wrap\;">\n<div class="_1mf _1mj" data-offset-key="2aoer-0-0" style="position: relative\; direction: ltr\; font-family: inherit\;"><span style="font-size:16px\;"><span data-offset-key="2aoer-0-0" style="font-family: inherit\;">Leia&#39\;s daughter\, age 3\, sings with the family. It is always a teat to hear this family sing! The night will prove to be a very good concert!</span></span></div>\n</div>\n\n<div data-block="true" data-editor="cq4qe" data-offset-key="emrjj-0-0" style="font-family: Helvetica\, Arial\, sans-serif\; color: rgb(28\, 30\, 33)\; font-size: 12px\; white-space: pre-wrap\;">\n<div class="_1mf _1mj" data-offset-key="emrjj-0-0" style="position: relative\; direction: ltr\; font-family: inherit\;">&nbsp\;</div>\n</div>\n\n<div data-block="true" data-editor="cq4qe" data-offset-key="bkuf9-0-0" style="font-family: Helvetica\, Arial\, sans-serif\; color: rgb(28\, 30\, 33)\; font-size: 12px\; white-space: pre-wrap\;">\n<div class="_1mf _1mj" data-offset-key="bkuf9-0-0" style="position: relative\; direction: ltr\; font-family: inherit\;"><span style="font-size:16px\;"><span data-offset-key="bkuf9-0-0" style="font-family: inherit\;">Don&#39\;t miss it!</span></span></div>\n</div>\n\n<div data-block="true" data-editor="cq4qe" data-offset-key="1oh4b-0-0" style="font-family: Helvetica\, Arial\, sans-serif\; color: rgb(28\, 30\, 33)\; font-size: 12px\; white-space: pre-wrap\;">\n<div class="_1mf _1mj" data-offset-key="1oh4b-0-0" style="position: relative\; direction: ltr\; font-family: inherit\;">&nbsp\;</div>\n</div>\n\n<div data-block="true" data-editor="cq4qe" data-offset-key="d1k7p-0-0" style="font-family: Helvetica\, Arial\, sans-serif\; color: rgb(28\, 30\, 33)\; font-size: 12px\; white-space: pre-wrap\;">\n<div class="_1mf _1mj" data-offset-key="d1k7p-0-0" style="position: relative\; direction: ltr\; font-family: inherit\;"><span style="font-size:16px\;"><span data-offset-key="d1k7p-0-0" style="font-family: inherit\;">Please bring lawn chairs because there is limited seating.</span></span></div>\n</div>\n\n<p><br />\n<br />\n<span style="font-size:14px\;"><font face="Arial">Bring your lawn chair&nbsp\;as seating is limited.&nbsp\;</font></span></p>\n
LOCATION:1st & Main St.\, Downtown Fort Scott Heritage Park Pavilion
UID:e.2874.13302
SEQUENCE:3
DTSTAMP:20260420T125722Z
URL:https://fortscott.com/events/details/friday-night-concert-in-the-park-pioneer-sunflowers-local-area-group-performing-eclectic-music-13302
END:VEVENT

END:VCALENDAR
