BEGIN:VCALENDAR
VERSION:2.0
PRODID:-//ChamberMaster//Event Calendar 2.0//EN
METHOD:PUBLISH
X-PUBLISHED-TTL:P3D
REFRESH-INTERVAL:P3D
CALSCALE:GREGORIAN
BEGIN:VEVENT
DTSTART:20211030T000000Z
DTEND:20211030T010000Z
X-MICROSOFT-CDO-ALLDAYEVENT:FALSE
SUMMARY:Friday Night Concert in the Park - Saint Martin's Academy
DESCRIPTION:This Friday night at 7pm the featured group of the Friday Night Concert Series will be The St. Martin Academy Singers.\n\nThere will be a short open mic time as well for walk-ons. The St. Martin's Academy group will have a mix of folk music\, classic country\, pop and gospel. As the school year ending\, the St. Martin's youth will be returning to their homes in various states so we get them before they leave for the summer. In addition\, there may be bagpipe music. They have been a really popular group and it is a pleasure to get these young men back.\n\nWe expect good weather and a good turnout so bring your lawn chairs as seating is limited.\n\n\n\nFriday Night Concert in the Park\n\nSponsored by the Fort Scott Area Chamber of Commerce\n\n\n\nThe concerts are organized by Ralph Carlson. If you or someone you know is interested in performing\, contact Ralph at rscarlson12@gmail.com.
X-ALT-DESC;FMTTYPE=text/html:<div class="kvgmc6g5 cxmmr5t8 oygrvhab hcukyx3x c1et5uql" style="overflow-wrap: break-word\; margin: 0px\; font-family: &quot\;Segoe UI Historic&quot\;\, &quot\;Segoe UI&quot\;\, Helvetica\, Arial\, sans-serif\; color: rgb(5\, 5\, 5)\; font-size: 15px\;">This Friday night at 7pm the featured group of the Friday Night Concert Series will be The St. Martin Academy Singers.</div>\n\n<div class="o9v6fnle cxmmr5t8 oygrvhab hcukyx3x c1et5uql" style="overflow-wrap: break-word\; margin: 0.5em 0px 0px\; font-family: &quot\;Segoe UI Historic&quot\;\, &quot\;Segoe UI&quot\;\, Helvetica\, Arial\, sans-serif\; color: rgb(5\, 5\, 5)\; font-size: 15px\;">There will be a short open mic time as well for walk-ons. The St. Martin&#39\;s Academy group will have a mix of folk music\, classic country\, pop and gospel. As the school year ending\, the St. Martin&#39\;s youth will be returning to their homes in various states so we get them before they leave for the summer. In addition\, there may be bagpipe music. They have been a really popular group and it is a pleasure to get these young men back.</div>\n\n<div class="o9v6fnle cxmmr5t8 oygrvhab hcukyx3x c1et5uql" style="overflow-wrap: break-word\; margin: 0.5em 0px 0px\; font-family: &quot\;Segoe UI Historic&quot\;\, &quot\;Segoe UI&quot\;\, Helvetica\, Arial\, sans-serif\; color: rgb(5\, 5\, 5)\; font-size: 15px\;">We expect good weather and a good turnout so bring your lawn chairs as seating is limited.</div>\n\n<p><br />\n<span style="font-size:14px\;"><font face="Arial">Friday Night Concert in the Park<br />\nSponsored by the Fort Scott Area Chamber of Commerce</font><br />\n<br />\n<font face="Arial">The concerts are organized by Ralph Carlson. If you or someone you know is interested in performing\, contact Ralph at </font></span><span style="color: rgb(85\, 85\, 85)\; font-family: Roboto\, RobotoDraft\, Helvetica\, Arial\, sans-serif\; font-size: 14px\;">rscarlson12@gmail.com</span><span style="font-size:14px\;"><font face="Arial">.</font></span><br />\n&nbsp\;</p>\n
LOCATION:1st & Main St.\, Downtown Fort Scott Heritage Park Pavilion
UID:e.2874.22084
SEQUENCE:3
DTSTAMP:20260424T065505Z
URL:https://fortscott.com/events/details/friday-night-concert-in-the-park-saint-martin-s-academy-22084
END:VEVENT

END:VCALENDAR
