BEGIN:VCALENDAR
VERSION:2.0
PRODID:-//ChamberMaster//Event Calendar 2.0//EN
METHOD:PUBLISH
X-PUBLISHED-TTL:P3D
REFRESH-INTERVAL:P3D
CALSCALE:GREGORIAN
BEGIN:VEVENT
DTSTART:20190713T000000Z
DTEND:20190713T010000Z
X-MICROSOFT-CDO-ALLDAYEVENT:FALSE
SUMMARY:Friday Night Concert in the Park - Singspiration & Ice Cream Social
DESCRIPTION:Friday Night Concert in the Park\n\nSponsored by the Fort Scott Area Chamber of Commerce\n\n\n\nThis Friday\, by special invitation\, we are meeting at the West Liberty United Methodist Church for a singspiration and ice cream social. The church membership and Pastor Gary Demott are hosting the event.\n\n\n\nThe evening of old time hymns is really special. Attendees will be invited to suggest favorite hymns. Come early and have a godd time with old fashioned hymn singing. It will be good to get out into the county for and old-time farm and city event.\n\n\n\nThe concerts are organized by Ralph Carlson. If you or someone you know is interested in performing\, contact Ralph at rscarlson@classicnet.net.
X-ALT-DESC;FMTTYPE=text/html:<p><span style="font-size:14px\;"><font face="Arial">Friday Night Concert in the Park<br />\nSponsored by the Fort Scott Area Chamber of Commerce<br />\n<br />\nThis Friday\, by special invitation\, we are meeting at the West Liberty United Methodist Church for a singspiration and ice cream social. The church membership and Pastor Gary Demott are hosting the event.<br />\n<br />\nThe evening of old time hymns is really special. Attendees will be invited to suggest favorite hymns. Come early and have a godd time with old fashioned hymn singing. It will be good to get out into the county for and old-time farm and city event.</font><br />\n<br />\n<font face="Arial">The concerts are organized by Ralph Carlson. If you or someone you know is interested in performing\, contact Ralph at rscarlson@classicnet.net.</font></span><br />\n<br />\n&nbsp\;</p>\n
LOCATION:West Liberty United Methodist Church 2549 Valley Rd. Fulton\, KS 66738
UID:e.2874.12487
SEQUENCE:3
DTSTAMP:20260423T133752Z
URL:https://fortscott.com/events/details/friday-night-concert-in-the-park-singspiration-ice-cream-social-12487
END:VEVENT

END:VCALENDAR
