BEGIN:VCALENDAR
VERSION:2.0
PRODID:-//ChamberMaster//Event Calendar 2.0//EN
METHOD:PUBLISH
X-PUBLISHED-TTL:P3D
REFRESH-INTERVAL:P3D
CALSCALE:GREGORIAN
BEGIN:VEVENT
DTSTART:20220430T000000Z
DTEND:20220430T010000Z
X-MICROSOFT-CDO-ALLDAYEVENT:FALSE
SUMMARY:Friday Night Concert in the Park - St. Martin's Academy
DESCRIPTION:Students of Saint Martin's Academy will be the featured entertainment at this week's Friday Night Concert. The school currently has an enrollment of 56 boys\, ages 13 to 18.   The music department is under the direction of Dave Agee and Daniel Kerr.  \n\n \n\n"This lively group of young men will warm your heart with their endearing performances   of folk\, country\, and gospel songs\," concert-series organizer Ralph Carlson said. "In addition to their musical talent\, these students have proven to be an asset to the community with their willingness to help out in various areas. We are pleased to welcome Saint Martin's Academy back to perform in our downtown pavilion. Bring a friend and join us for an enjoyable evening of music."     \n\n \n\nThe concert begins at 7 p.m. at the Heritage Park Pavilion at First and Main streets. The shows\, sponsored by the Fort Scott Area Chamber of Commerce\, are free and open to the public. Dave Oas of Parsons serves as sound technician each week. Due to limited seating\, attendees are encouraged to bring lawn chairs.      \n\n \n\nIn the event of inclement weather\, the concert will be moved to an indoor venue.
X-ALT-DESC;FMTTYPE=text/html:<span style="font-size:12.0pt\;">Students of Saint Martin&rsquo\;s Academy will be the featured entertainment at this week&rsquo\;s Friday Night Concert. The school currently has an enrollment of 56 boys\, ages 13 to 18.&nbsp\;&nbsp\; The music department is under the direction of Dave Agee and Daniel Kerr.&nbsp\; </span><br />\n&nbsp\;<br />\n<span style="font-size:12.0pt\;">&ldquo\;This lively group of young men will warm your heart with their endearing performances&nbsp\;&nbsp\; of folk\, country\, and gospel songs\,&ldquo\; concert-series organizer Ralph Carlson said. &ldquo\;In addition to their musical talent\, these students have proven to be an asset to the community with their willingness to help out in various areas. We are pleased to welcome Saint Martin&rsquo\;s Academy back to perform in our downtown pavilion. Bring a friend and join us for an enjoyable evening of music.&rdquo\;&nbsp\;&nbsp\;&nbsp\;&nbsp\; </span><br />\n&nbsp\;<br />\n<span style="font-size:12.0pt\;">The concert begins at 7 p.m. at the Heritage Park Pavilion at First and Main streets. The shows\, sponsored by the Fort Scott Area Chamber of Commerce\, are free and open to the public. Dave Oas of Parsons serves as sound technician each week. Due to limited seating\, attendees are encouraged to bring lawn chairs.&nbsp\;&nbsp\;&nbsp\;&nbsp\;&nbsp\; </span><br />\n&nbsp\;<br />\n<span style="font-size:12.0pt\;">In the event of inclement weather\, the concert will be moved to an indoor venue.&nbsp\; </span>
LOCATION:
UID:e.2874.25026
SEQUENCE:3
DTSTAMP:20260425T172932Z
URL:https://fortscott.com/events/details/friday-night-concert-in-the-park-st-martin-s-academy-25026
END:VEVENT

END:VCALENDAR
