BEGIN:VCALENDAR
VERSION:2.0
PRODID:-//ChamberMaster//Event Calendar 2.0//EN
METHOD:PUBLISH
X-PUBLISHED-TTL:P3D
REFRESH-INTERVAL:P3D
CALSCALE:GREGORIAN
BEGIN:VEVENT
DTSTART:20210911T000000Z
DTEND:20210911T013000Z
X-MICROSOFT-CDO-ALLDAYEVENT:FALSE
SUMMARY:Friday Night Concert in the Park -Stephan Moses
DESCRIPTION:Stephan Moses will be the guest performer at this week's Friday Night Concert. Moses is a songwriter vocalist and musician who plays guitar\, banjo\, and mandolin. He will perform a variety of blues and classic country.   \n\n \n\n"Formerly from Kansas City\, Moses began playing music at age ten\, so he's been at this a long time\," concert-series organizer Ralph Carlson said. "Moses has a strong family heritage in music\, as his grandfather played banjo\, and an uncle played guitar and sang old country and blues songs. Hearing this music as a kid left a strong impression on Moses\, so he threw his hat into the ring too. We appreciate him sharing his time and talent and welcome Stephan Moses to the park pavilion. Come out and join us for a great evening of music."   \n\n\n\n\n\n\n\n\n\n\n\n\n\n\n\n\n\n\n\n\n\nThis week's Friday Night Concert will be presented by Matt Harper of Nevada\, Missouri.  Harper sings and plays guitar and harmonica\, and performs a variety of music including country\, folk\, jazz\, inspirational\, blues\, and original tunes.     \n\nPerforming since the early 1990s\, Harper is a musician of excellence and is a jack of all styles\," concert series organizer Ralph Carlson said. "Harper has a wife and four kids and is a busy guy\, so we really appreciate his willingness to return to the park pavilion and entertain our crowd of music lovers. Come out and join your friends for an enjoyable evening." \n\nThe concert begins at 7 p.m. at the Heritage Park Pavilion on First and Main streets. The shows\, sponsored by the Fort Scott Area The Chamber of Commerce\, are free and open to the public. Dave Oas of Parsons serves as a sound technician each week. Due to limited seating\, attendees are encouraged to bring lawn chairs.     \n\nIn the event of inclement weather\, the concert will be moved to the Common Ground Coffee Co.\, 12 E. Wall Street.
X-ALT-DESC;FMTTYPE=text/html:<div class="kvgmc6g5 cxmmr5t8 oygrvhab hcukyx3x c1et5uql" color:="" font-size:="" segoe="" style="overflow-wrap: break-word\; margin: 0px\; font-family: " ui=""><span style="font-size:12.0pt\;">Stephan Moses will be the guest performer at this week&rsquo\;s Friday Night Concert. Moses is a songwriter vocalist and musician who plays guitar\, banjo\, and mandolin. He will perform a variety of blues and classic country.&nbsp\;&nbsp\; </span><br />\n&nbsp\;<br />\n<span style="font-size:12.0pt\;">&ldquo\;Formerly from Kansas City\, Moses began playing music at age ten\, so he&rsquo\;s been at this a long time\,&rdquo\; concert-series organizer Ralph Carlson said. &ldquo\;Moses has a strong family heritage in music\, as his grandfather played banjo\, and an uncle played guitar and sang old country and blues songs. Hearing this music as a kid left a strong impression on Moses\, so he threw his hat into the ring too. We appreciate him sharing his time and talent and welcome Stephan Moses to the park pavilion. Come out and join us for a great evening of music.&ldquo\;&nbsp\;&nbsp\; </span><br />\n<br />\n<br />\n<br />\n<br />\n<br />\n<br />\n<br />\n<br />\n<br />\n<br />\n<span style="font-size:12.0pt\;">This week&rsquo\;s Friday Night Concert will be presented by Matt Harper of Nevada\, Missouri.&nbsp\; Harper sings and plays guitar and harmonica\, and performs a variety of music including country\, folk\, jazz\, inspirational\, blues\, and original tunes.&nbsp\;&nbsp\;&nbsp\;&nbsp\; </span><br />\n<span style="font-size:12pt\;">Performing since the early 1990s\, Harper is a musician of excellence and is a jack of all styles\,&rdquo\; concert series organizer Ralph Carlson said. &ldquo\;Harper has a wife and four kids and is a busy guy\, so we really appreciate his willingness to return to the park pavilion and entertain our crowd of music lovers. Come out and join your friends for an enjoyable evening.&rdquo\;</span>&nbsp\;<br />\n<span style="font-size:12.0pt\;">T</span><span style="font-size:12pt\;">he concert begins at 7 p.m. at the Heritage Park Pavilion on First and Main streets. The shows\, sponsored by the Fort Scott Area The Chamber of Commerce\, are free and open to the public. Dave Oas of Parsons serves as a sound technician each week. Due to limited seating\, attendees are encouraged to bring lawn chairs.</span>&nbsp\; &nbsp\; &nbsp\;<br />\n<span style="font-size:12pt\;">In the event of inclement weather\, the concert will be moved to the Common Ground Coffee Co.\, 12 E. Wall Street.</span>&nbsp\;&nbsp\;<br />\n<br />\n&nbsp\;</div>\n
LOCATION:1st & Main St.\, Downtown Fort Scott Heritage Park Pavilion
UID:e.2874.20386
SEQUENCE:3
DTSTAMP:20260423T083639Z
URL:https://fortscott.com/events/details/friday-night-concert-in-the-park-stephan-moses-20386
END:VEVENT

END:VCALENDAR
