BEGIN:VCALENDAR
VERSION:2.0
PRODID:-//ChamberMaster//Event Calendar 2.0//EN
METHOD:PUBLISH
X-PUBLISHED-TTL:P3D
REFRESH-INTERVAL:P3D
CALSCALE:GREGORIAN
BEGIN:VEVENT
DTSTART:20220521T000000Z
DTEND:20220521T010000Z
X-MICROSOFT-CDO-ALLDAYEVENT:FALSE
SUMMARY:Friday Night Concerts in the Park
DESCRIPTION:Friday Night Concerts in the Park\, each Friday May through October.\n\n7 to 8pm\, Attendees are encouraged to bring a lawn chair due to limited seating.\n\nConcerts are held at Heritage Park Pavilion\, 1st & Main\, Downtown Fort Scott unless another location is announced due to inclement weather or other scheduling.\n\nConcerts are sponsored by the Fort Scott Area Chamber of Commerce and organized by Ralph Carlson.
X-ALT-DESC;FMTTYPE=text/html:Friday Night Concerts in the Park\, each Friday May through October.<br />\n7 to 8pm\, Attendees are encouraged to bring a lawn chair due to limited seating.<br />\nConcerts are held at Heritage Park Pavilion\, 1st &amp\; Main\, Downtown Fort Scott unless another location is announced due to inclement weather or other scheduling.<br />\nConcerts are sponsored by the Fort Scott Area Chamber of Commerce and organized by Ralph Carlson.
LOCATION:
UID:e.2874.25032
SEQUENCE:3
DTSTAMP:20260425T161153Z
URL:https://fortscott.com/events/details/friday-night-concerts-in-the-park-05-20-2022-25032
END:VEVENT

END:VCALENDAR
