BEGIN:VCALENDAR
VERSION:2.0
PRODID:-//ChamberMaster//Event Calendar 2.0//EN
METHOD:PUBLISH
X-PUBLISHED-TTL:P3D
REFRESH-INTERVAL:P3D
CALSCALE:GREGORIAN
BEGIN:VEVENT
DTSTART:20220625T000000Z
DTEND:20220625T010000Z
X-MICROSOFT-CDO-ALLDAYEVENT:FALSE
SUMMARY:Friday Night Concerts in the Park - Steve Fortenberry
DESCRIPTION:This week's Friday Night Concert will be presented by local musician Steve Fortenberry.\n\nThe one-hour concert begins at 7 p.m. at the Heritage Park Pavilion at First and Main\n\nstreets. Fortenberry plays light classical and Christian songs on guitar. Ralph Carlson will\n\njoin him on guitar for the last half of the show\n\n"Steve is an accomplished musician with unique guitar stylings\, using special effects\,"\n\nconcert-series organizer Ralph Carlson said. "We are happy to welcome Steve back to the\n\npavilion and we're looking forward to an enjoyable evening of great guitar music from\n\nhim. Bring a friend and join us."\n\nThe shows\, sponsored by the Fort Scott Area Chamber of Commerce\, are free and open\n\nto the public. Dave Oas and Jim Butler provide the sound each week. Due to limited\n\nseating\, attendees are encouraged to bring lawn chairs.\n\nIn the event of inclement weather or excessive heat temps\, the concert will be moved to\n\nthe Loading Dock at Common Ground Coffee Co.\, 12 E. Wall Street.
X-ALT-DESC;FMTTYPE=text/html:This week&rsquo\;s Friday Night Concert will be presented by local musician Steve Fortenberry.<br />\nThe one-hour concert begins at 7 p.m. at the Heritage Park Pavilion at First and Main<br />\nstreets. Fortenberry plays light classical and Christian songs on guitar. Ralph Carlson will<br />\njoin him on guitar for the last half of the show<br />\n&ldquo\;Steve is an accomplished musician with unique guitar stylings\, using special effects\,&rdquo\;<br />\nconcert-series organizer Ralph Carlson said. &ldquo\;We are happy to welcome Steve back to the<br />\npavilion and we&lsquo\;re looking forward to an enjoyable evening of great guitar music from<br />\nhim. Bring a friend and join us.&rdquo\;<br />\nThe shows\, sponsored by the Fort Scott Area Chamber of Commerce\, are free and open<br />\nto the public. Dave Oas and Jim Butler provide the sound each week. Due to limited<br />\nseating\, attendees are encouraged to bring lawn chairs.<br />\nIn the event of inclement weather or excessive heat temps\, the concert will be moved to<br />\nthe Loading Dock at Common Ground Coffee Co.\, 12 E. Wall Street.
LOCATION:
UID:e.2874.25037
SEQUENCE:3
DTSTAMP:20260425T161214Z
URL:https://fortscott.com/events/details/friday-night-concerts-in-the-park-steve-fortenberry-25037
END:VEVENT

END:VCALENDAR
