BEGIN:VCALENDAR
VERSION:2.0
PRODID:-//ChamberMaster//Event Calendar 2.0//EN
METHOD:PUBLISH
X-PUBLISHED-TTL:P3D
REFRESH-INTERVAL:P3D
CALSCALE:GREGORIAN
BEGIN:VEVENT
DTSTART:20220412T230000Z
DTEND:20220413T020000Z
X-MICROSOFT-CDO-ALLDAYEVENT:FALSE
SUMMARY:FSCC Foundation Dinner\, more details to come!
DESCRIPTION:FSCC Foundation Dinner\, more details to come!
X-ALT-DESC;FMTTYPE=text/html:FSCC Foundation Dinner\, more details to come!
LOCATION:
UID:e.2874.22856
SEQUENCE:3
DTSTAMP:20260425T172625Z
URL:https://fortscott.com/events/details/fscc-foundation-dinner-more-details-to-come-22856
END:VEVENT

END:VCALENDAR
