BEGIN:VCALENDAR
VERSION:2.0
PRODID:-//ChamberMaster//Event Calendar 2.0//EN
METHOD:PUBLISH
X-PUBLISHED-TTL:P3D
REFRESH-INTERVAL:P3D
CALSCALE:GREGORIAN
BEGIN:VEVENT
DTSTART:20211204T140000Z
DTEND:20211204T170000Z
X-MICROSOFT-CDO-ALLDAYEVENT:FALSE
SUMMARY:FSCC - FREE Breakfast with Santa\, 12-7 @ 8am -11 am
DESCRIPTION:Santa's Workshop will have Breakfast with Santa\, Prizes\, Games\, Coloring\, Letters to Santa\n\n\n\nBreakfast includes biscuits and sausage gravy\, scrambled eggs\, waffles\, and juice.
X-ALT-DESC;FMTTYPE=text/html:Santa&#39\;s Workshop will have Breakfast with Santa\, Prizes\, Games\, Coloring\, Letters to Santa<br />\n<br />\nBreakfast includes biscuits and sausage gravy\, scrambled eggs\, waffles\, and juice.
LOCATION:FSCC Campus in the Bailey Hall
UID:e.2874.22089
SEQUENCE:3
DTSTAMP:20260426T000457Z
URL:https://fortscott.com/events/details/fscc-free-breakfast-with-santa-12-7-8am-11-am-22089
END:VEVENT

END:VCALENDAR
