BEGIN:VCALENDAR
VERSION:2.0
PRODID:-//ChamberMaster//Event Calendar 2.0//EN
METHOD:PUBLISH
X-PUBLISHED-TTL:P3D
REFRESH-INTERVAL:P3D
CALSCALE:GREGORIAN
BEGIN:VEVENT
DTSTART:20220507T130000Z
DTEND:20220507T180000Z
X-MICROSOFT-CDO-ALLDAYEVENT:FALSE
SUMMARY:FSCC Hall of Fame Golf Tournament\, more details to come!
DESCRIPTION:FSCC Hall of Fame Golf Tournament\, more details to come!
X-ALT-DESC;FMTTYPE=text/html:FSCC Hall of Fame Golf Tournament\, more details to come!
LOCATION:
UID:e.2874.22858
SEQUENCE:3
DTSTAMP:20260425T161747Z
URL:https://fortscott.com/events/details/fscc-hall-of-fame-golf-tournament-more-details-to-come-22858
END:VEVENT

END:VCALENDAR
