BEGIN:VCALENDAR
VERSION:2.0
PRODID:-//ChamberMaster//Event Calendar 2.0//EN
METHOD:PUBLISH
X-PUBLISHED-TTL:P3D
REFRESH-INTERVAL:P3D
CALSCALE:GREGORIAN
BEGIN:VEVENT
DTSTART:20191019T140000Z
DTEND:20191019T170000Z
X-MICROSOFT-CDO-ALLDAYEVENT:FALSE
SUMMARY:FSCC HOSTING FALL KID'S FAIR AT PIONEER HARVEST FIESTA
DESCRIPTION:FSCC will be hosting 2019 Fall Kid's Fair along with the Pioneer Harvest Fiesta this weekend!\n\n** BRING YOUR OWN PUMPKIN TO PAINT (limited pumpkins on site)\n\n** BRING YOUR TEDDY BEAR FOR TEDDY BEAR CLINIC\n\n** COSTUME CONTEST - BOUNCE HOUSE - FIRST RESPONDERS & FACE PAINTING!
X-ALT-DESC;FMTTYPE=text/html:FSCC will be hosting 2019 Fall Kid&#39\;s Fair along with the Pioneer Harvest Fiesta this weekend!<br />\n** BRING YOUR OWN PUMPKIN TO PAINT (limited pumpkins on site)<br />\n** BRING YOUR TEDDY BEAR FOR TEDDY BEAR CLINIC<br />\n** COSTUME CONTEST - BOUNCE HOUSE - FIRST RESPONDERS &amp\; FACE PAINTING!
LOCATION:Fort Scott Community College\, INSIDE Bailey Hall (rain or shine)
UID:e.2874.13636
SEQUENCE:3
DTSTAMP:20260420T113833Z
URL:https://fortscott.com/events/details/fscc-hosting-fall-kid-s-fair-at-pioneer-harvest-fiesta-13636
END:VEVENT

END:VCALENDAR
