BEGIN:VCALENDAR
VERSION:2.0
PRODID:-//ChamberMaster//Event Calendar 2.0//EN
METHOD:PUBLISH
X-PUBLISHED-TTL:P3D
REFRESH-INTERVAL:P3D
CALSCALE:GREGORIAN
BEGIN:VEVENT
DTSTART:20191024T223000Z
DTEND:20191024T233000Z
X-MICROSOFT-CDO-ALLDAYEVENT:FALSE
SUMMARY:FSCC INVITES YOU TO "MEET THE HOUNDS" EVENT OCTOBER 24\, 2019
DESCRIPTION:The Fort Scott Community College (FSCC) Women's and Men's Basketball will be hosting the first annual "Meet the Hounds" event on October 24\, 2019 at 5:30 at Arnold Arena.\n\n \n\nThe women's team\, led by first-year Head Coach Jordyn Alexander\, will conduct drills and a scrimmage after player introductions.\n\n \n\nThe men's team\, led by Head Coach Michael Cook who is entering his 12th year as the head coach at FSCC\, will do introductions\, conduct drills\, and have a scrimmage directly after the women's team is completed.  Afterwards\, the Men's team will be selling team posters and have an autograph signing as well.\n\n \n\nCome out and meet your Women's and Men's Greyhounds as they prepared to start their seasons.  Both teams will have their first contest on November 1st. The women will be at Johnson County for a tournament over the weekend\, playing North Central Missouri College on at 3:30pm and Southwestern Community College on November 2nd at 4:30pm. The men will be at home on November 1st in Arnold Arena\, playing Little Tribal Priest College at 7:00pm and Baker University JV on November 2nd at 4:00pm.
X-ALT-DESC;FMTTYPE=text/html:<span style="font-family:times new roman\,serif\;"><span style="font-size:12pt\;">The Fort Scott Community College (FSCC) Women&rsquo\;s and Men&rsquo\;s</span></span>&nbsp\;<span style="font-family:times new roman\,serif\;"><span style="font-size:12pt\;">Basketball will be hosting the first annual &ldquo\;Meet the Hounds&rdquo\; event on&nbsp\;<strong>October 24\, 2019 at 5:30 at Arnold Arena.</strong></span></span><br />\n&nbsp\;<br />\n<span style="font-family:times new roman\,serif\;"><span style="font-size:12pt\;">The women&rsquo\;s team\, led by first-year Head Coach Jordyn Alexander\, will conduct drills and a scrimmage after player introductions.</span></span><br />\n&nbsp\;<br />\n<span style="font-family:times new roman\,serif\;"><span style="font-size:12pt\;">The men&rsquo\;s team\, led by Head Coach Michael Cook who is entering his 12th year as the head coach at FSCC\, will do introductions\, conduct drills\, and have a scrimmage directly after the women&rsquo\;s team is completed.&nbsp\; Afterwards\, the Men&rsquo\;s team will be selling team posters and have an autograph signing as well.</span></span><br />\n&nbsp\;<br />\n<span style="font-family:times new roman\,serif\;"><span style="font-size:12pt\;">Come out and meet your Women&rsquo\;s and Men&rsquo\;s Greyhounds as they prepared to start their seasons.&nbsp\; Both teams will have their first contest on November 1<sup>st</sup>.&nbsp\;The women will be at Johnson County for a tournament over the weekend\, playing North Central Missouri College on at 3:30pm and Southwestern Community College on November 2nd at 4:30pm. The men will be at home on November 1st in Arnold Arena\, playing Little Tribal Priest College at 7:00pm and Baker University JV on November 2<sup>nd</sup>&nbsp\;at 4:00pm.</span></span><br />\n&nbsp\;
LOCATION:FSCC - ARNOLD ARENA
UID:e.2874.13642
SEQUENCE:3
DTSTAMP:20260420T113820Z
URL:https://fortscott.com/events/details/fscc-invites-you-to-meet-the-hounds-event-october-24-2019-13642
END:VEVENT

END:VCALENDAR
