BEGIN:VCALENDAR
VERSION:2.0
PRODID:-//ChamberMaster//Event Calendar 2.0//EN
METHOD:PUBLISH
X-PUBLISHED-TTL:P3D
REFRESH-INTERVAL:P3D
CALSCALE:GREGORIAN
BEGIN:VEVENT
DTSTART:20191024T230000Z
DTEND:20191025T020000Z
X-MICROSOFT-CDO-ALLDAYEVENT:FALSE
SUMMARY:FSCC IS HOSTING STRING ART AT ELLIS FINE ARTS CENTER
DESCRIPTION:FSCC WOULD LIKE YOU TO ATTEND AND JOIN THEM FOR STRING ART ON CANVAS!
X-ALT-DESC;FMTTYPE=text/html:FSCC WOULD LIKE YOU TO ATTEND AND JOIN THEM FOR STRING ART ON CANVAS!
LOCATION:ELLIS FINE ARTS CENTER AT THE FORT SCOTT COMMUNITY COLLEGE CAMPUS
UID:e.2874.13638
SEQUENCE:3
DTSTAMP:20260420T124711Z
URL:https://fortscott.com/events/details/fscc-is-hosting-string-art-at-ellis-fine-arts-center-13638
END:VEVENT

END:VCALENDAR
