BEGIN:VCALENDAR
VERSION:2.0
PRODID:-//ChamberMaster//Event Calendar 2.0//EN
METHOD:PUBLISH
X-PUBLISHED-TTL:P3D
REFRESH-INTERVAL:P3D
CALSCALE:GREGORIAN
BEGIN:VEVENT
DTSTART:20220409T003000Z
DTEND:20220411T023000Z
X-MICROSOFT-CDO-ALLDAYEVENT:FALSE
SUMMARY:FSCC Presents Musical "Godspell"
DESCRIPTION:FSCC WEAVES MUSICAL MAGIC WITH 'GODSPELL'\n\nFifty years after its theatrical debut\, the musical "Godspell" returns to the stage at Fort Scott Community College in an exciting\, powerful new form next month.\n\nCalled "a 'Godspell' for the new millennium" by Paul Shaffer\, who conducted the Toronto production of the original musical in March 1972\, the show was revised in 2012 with gritty new dialogue and edgy new arrangements of the memorable songs.\n\n"This is not the version staged here in 2013\," said Allen Twitchell\, FSCC theater instructor\, who is directing the musical with the assistance of Dr. Denissa Rivas\, FSCC music instructor\, and Rachel Dugan\, choreographer\, of Fort Scott. "Our version is told by a group of homeless young people set amidst the urban decay of a metropolitan city who elect to follow the teachings of a messiah-like figure preaching peace\, love and community."\n\nThe musical was conceived and originally directed by John-Michael Tebelak with music and new lyrics by Stephen Schwartz. "Godspell" was originally produced on the New York stage by Edgar Lansbury\, Stuart Duncan and Joseph Beruh.\n\nShows are 7:30 p.m. March 25-26 and 2 p.m. March 27. Admission is $5. FSCC students\, faculty and staff are admitted free of charge. Masks are required.\n\nThe FSCC cast features: Ray Burch\, freshman from St. Louis\, as Jesus\; Evan Ballinger\, freshman from Pleasanton\, as Judas\; Lexi Ornelas\, freshman from Chanute\, as Anna Maria\; Jacquie Hampton\, sophomore from Uniontown\, as Celisse\; Hyden Wirsig\, freshman from Drexel\, Mo.\, as Nick\; Sonny Webb\, freshman from Tampa\, Fla.\, as Morgan\; Colleen Sweat\, sophomore from Pleasanton\, as Uzo\; Robenton Wirsig\, freshman from Drexel\, Mo.\, as George\; Kiera Threlfall\, sophomore from Frontenac\, as Telly\; Mackenzie Peoples\, sophomore from Fort Scott\, as Lindsay\; Shawn Huffman\, freshman from Fort Scott\, as Brick\; Dray Dickey\, freshman from Bronaugh\, Mo.\, as Simon\; Paityn Curtis\, freshman from LaCygne\, as Minnie\; Carlee Studyvin\, sophomore from Fort Scott\, as Rachel\; and Joy Nichols\, freshman from Moundville\, Mo.\, as Jo.\n\nMeda Hurst\, freshman from Fort Scott\, is stage manager\; Zach Loper\, freshman from Girard\, supplies the sound\; and Dylan Graham\, freshman from Tonganoxie\, supplies the lights.\n\n"Godspell" is presented through special arrangement with Music Theatre International (MTI).
X-ALT-DESC;FMTTYPE=text/html:<strong><span style="font-family:cambria\,serif\;"><span style="font-size:12.0pt\;">FSCC WEAVES MUSICAL MAGIC WITH &lsquo\;GODSPELL&rsquo\;</span></span></strong><br />\n<span style="font-family:cambria\,serif\;"><span style="font-size:12.0pt\;">Fifty years after its theatrical debut\, the musical &ldquo\;Godspell&rdquo\; returns to the stage at Fort Scott Community College in an exciting\, powerful new form next month.</span></span><br />\n<span style="font-family:cambria\,serif\;"><span style="font-size:12.0pt\;">Called &ldquo\;a &lsquo\;Godspell&rsquo\; for the new millennium&rdquo\; by Paul Shaffer\, who conducted the Toronto production of the original musical in March 1972\, the show was revised in 2012 with gritty new dialogue and edgy new arrangements of the memorable songs.</span></span><br />\n<span style="font-family:cambria\,serif\;"><span style="font-size:12.0pt\;">&ldquo\;This is not the version staged here in 2013\,&rdquo\; said Allen Twitchell\, FSCC theater instructor\, who is directing the musical with the assistance of Dr. Denissa Rivas\, FSCC music instructor\, and Rachel Dugan\, choreographer\, of Fort Scott. &ldquo\;Our version is told by a group of homeless young people set amidst the urban decay of a metropolitan city who elect to follow the teachings of a messiah-like figure preaching peace\, love and community.&rdquo\;</span></span><br />\n<span style="font-family:cambria\,serif\;"><span style="font-size:12.0pt\;">The musical was conceived and originally directed by John-Michael Tebelak with music and new lyrics by Stephen Schwartz. &ldquo\;Godspell&rdquo\; was originally produced on the New York stage by Edgar Lansbury\, Stuart Duncan and Joseph Beruh.</span></span><br />\n<span style="font-family:cambria\,serif\;"><span style="font-size:12.0pt\;">Shows are 7:30 p.m. March 25-26 and 2 p.m. March 27. Admission is $5. FSCC students\, faculty and staff are admitted free of charge. Masks are required.</span></span><br />\n<span style="font-family:cambria\,serif\;"><span style="font-size:12.0pt\;">The FSCC cast features: Ray Burch\, freshman from St. Louis\, as Jesus\; Evan Ballinger\, freshman from Pleasanton\, as Judas\; Lexi Ornelas\, freshman from Chanute\, as Anna Maria\; Jacquie Hampton\, sophomore from Uniontown\, as Celisse\; Hyden Wirsig\, freshman from Drexel\, Mo.\, as Nick\; Sonny Webb\, freshman from Tampa\, Fla.\, as Morgan\; Colleen Sweat\, sophomore from Pleasanton\, as Uzo\; Robenton Wirsig\, freshman from Drexel\, Mo.\, as George\; Kiera Threlfall\, sophomore from Frontenac\, as Telly\; Mackenzie Peoples\, sophomore from Fort Scott\, as Lindsay\; Shawn Huffman\, freshman from Fort Scott\, as Brick\; Dray Dickey\, freshman from Bronaugh\, Mo.\, as Simon\; Paityn Curtis\, freshman from LaCygne\, as Minnie\; Carlee Studyvin\, sophomore from Fort Scott\, as Rachel\; and Joy Nichols\, freshman from Moundville\, Mo.\, as Jo.</span></span><br />\n<span style="font-family:cambria\,serif\;"><span style="font-size:12.0pt\;">Meda Hurst\, freshman from Fort Scott\, is stage manager\; Zach Loper\, freshman from Girard\, supplies the sound\; and Dylan Graham\, freshman from Tonganoxie\, supplies the lights.</span></span><br />\n<span style="font-family:cambria\,serif\;"><span style="font-size:12.0pt\;">&ldquo\;Godspell&rdquo\; is presented through special arrangement with Music Theatre International (MTI).</span></span>
LOCATION:Ellis Family Fine Arts Center
UID:e.2874.24392
SEQUENCE:3
DTSTAMP:20260425T172748Z
URL:https://fortscott.com/events/details/fscc-presents-musical-godspell-03-26-2022-24392
END:VEVENT

END:VCALENDAR
