BEGIN:VCALENDAR
VERSION:2.0
PRODID:-//ChamberMaster//Event Calendar 2.0//EN
METHOD:PUBLISH
X-PUBLISHED-TTL:P3D
REFRESH-INTERVAL:P3D
CALSCALE:GREGORIAN
BEGIN:VEVENT
DTSTART:20191020T003000Z
DTEND:20191020T030000Z
X-MICROSOFT-CDO-ALLDAYEVENT:FALSE
SUMMARY:FSCC Theater Presents: "TO KILL A MOCKINGBIRD"
DESCRIPTION:FSCC Theater Department to Stage Classic Tale of injustice\n\nTo commemorate the 100th anniversary of the school's founding\, the Fort Scott Community College theater department is bringing a powerful modern classic to the stage as its first production of the season.\n\n"To Kill a Mockingbird" opens at 7:30 p.m. Friday in the Danny and Willa Ellis Family Fine Arts Center on the FSCC campus. Additional performances are at 7:30 p.m. Saturday and at 2 p.m. Sunday. Admission is free.\n\nBased on Harper Lee's all-time best-selling novel "To Kill a Mockingbird\," which is required reading in many middle- and high-school classrooms\, the stage play (by Christopher Sergel) is an equally searing indictment of society in the 1930s as it pertained to race relations in this country.\n\n"It is not a pretty story\," said Allen Twitchell\, FSCC's director of theater\, "but it is a story that needs to be told and re-told until we\, as a society\, get it right. The entire play is a protest\; a protest against racism\, hatred\, bigotry\, intolerance and inequality.\n\n"I wanted to offer something meaningful for our centennial year celebration\, and they don't come any more meaningful than this. In fact\, it's probably the most important play I've ever had a hand in staging."\n\nThe story centers on Tom Robinson\, a black man falsely accused of assaulting a white girl in a small Alabama town in 1935\, and Atticus Finch\, a white attorney and the only person willing to defend him.\n\nPlaying the role of Atticus is Anthony Oneri\, a freshman from Gardner\, while sophomore Marcus Robinson of Paola portrays Tom.\n\nThe cast also includes Cadence Tuck as Scout and Andrew Lyon as Jem\, the children of the widowed Atticus\, and Ben Davenport as Dill\, a runaway who befriends them. All three attend Fort Scott Middle School.\n\nOther cast members are: Jazmin Havens\, freshman from Pittsburg\, as Calpurnia\, the Finch maid\; Colton Hofer\, sophomore from Fort Scott\, as prosecuting attorney Mr. Gilmer and down-street neighbor Boo Radley\; Grace Springer\, senior at Jayhawk-Linn high school\, as Mayella Ewell\, the "victim"\; Meaghan Hay\, sophomore from Fort Scott\, as nosey neighbor Miss Maudie\; Annabelle Moore\, freshman from Lyndon\, as self-righteous neighbor Miss Stephanie\; Abby Sweat\, freshman from Pleasanton\, as mean-spirited neighbor Mrs. Dubose\; Mikiylah Gonzales\, freshman from Fort Scott\, as the kindly Rev. Sykes for the Friday performance and Connor Chiarelli\, freshman from Belton\, Mo.\, in that role Saturday and Sunday\; and Isabella Loyd\, freshman from Fort Scott\, as the court clerk and the understudy for all female roles.\n\nIn addition\, the cast includes guest artists Tony Wagner as Sheriff Heck Tate and Harold Hicks as Judge Taylor and townsperson Walter Cunningham. Twitchell is playing the role of Bob Ewell\, the accuser's venomous and vengeful father.\n\nPhoenix Burk\, freshman from Pittsburg\, is stage manager for the production and fills the roles of several minor characters\, and Michael Woodward\, sophomore from Fulton\, serves as sound designer and engineer for the production.\n\nDesigning and running the lights for the show is Jason Huffman of Pittsburg.\n\nThe play does contain offensive language.\n\n"I guarantee you that no one in this cast wanted to use words like that to disparage fellow human beings\," said Twitchell. "But\, you really can't tell this story without doing that. To water it down in any way would subvert the truth and minimize the message that racism is wrong   on every level ."
X-ALT-DESC;FMTTYPE=text/html:<strong><span style="font-size:14.0pt\;">FSCC Theater Department to Stage Classic Tale of injustice</span></strong><br />\nTo commemorate the 100<sup>th</sup> anniversary of the school&rsquo\;s founding\, the Fort Scott Community College theater department is bringing a powerful modern classic to the stage as its first production of the season.<br />\n&ldquo\;To Kill a Mockingbird&rdquo\; opens at 7:30 p.m. Friday in the Danny and Willa Ellis Family Fine Arts Center on the FSCC campus. Additional performances are at 7:30 p.m. Saturday and at 2 p.m. Sunday. Admission is free.<br />\nBased on Harper Lee&rsquo\;s all-time best-selling novel &ldquo\;To Kill a Mockingbird\,&rdquo\; which is required reading in many middle- and high-school classrooms\, the stage play (by Christopher Sergel) is an equally searing indictment of society in the 1930s as it pertained to race relations in this country.<br />\n&ldquo\;It is not a pretty story\,&rdquo\; said Allen Twitchell\, FSCC&rsquo\;s director of theater\, &ldquo\;but it is a story that needs to be told and re-told until we\, as a society\, get it right. The entire play is a protest\; a protest against racism\, hatred\, bigotry\, intolerance and inequality.<br />\n&ldquo\;I wanted to offer something meaningful for our centennial year celebration\, and they don&rsquo\;t come any more meaningful than this. In fact\, it&rsquo\;s probably the most important play I&rsquo\;ve ever had a hand in staging.&rdquo\;<br />\nThe story centers on Tom Robinson\, a black man falsely accused of assaulting a white girl in a small Alabama town in 1935\, and Atticus Finch\, a white attorney and the only person willing to defend him.<br />\nPlaying the role of Atticus is Anthony Oneri\, a freshman from Gardner\, while sophomore Marcus Robinson of Paola portrays Tom.<br />\nThe cast also includes Cadence Tuck as Scout and Andrew Lyon as Jem\, the children of the widowed Atticus\, and Ben Davenport as Dill\, a runaway who befriends them. All three attend Fort Scott Middle School.<br />\nOther cast members are: Jazmin Havens\, freshman from Pittsburg\, as Calpurnia\, the Finch maid\; Colton Hofer\, sophomore from Fort Scott\, as prosecuting attorney Mr. Gilmer and down-street neighbor Boo Radley\; Grace Springer\, senior at Jayhawk-Linn high school\, as Mayella Ewell\, the &ldquo\;victim&rdquo\;\; Meaghan Hay\, sophomore from Fort Scott\, as nosey neighbor Miss Maudie\; Annabelle Moore\, freshman from Lyndon\, as self-righteous neighbor Miss Stephanie\; Abby Sweat\, freshman from Pleasanton\, as mean-spirited neighbor Mrs. Dubose\; Mikiylah Gonzales\, freshman from Fort Scott\, as the kindly Rev. Sykes for the Friday performance and Connor Chiarelli\, freshman from Belton\, Mo.\, in that role Saturday and Sunday\; and Isabella Loyd\, freshman from Fort Scott\, as the court clerk and the understudy for all female roles.<br />\nIn addition\, the cast includes guest artists Tony Wagner as Sheriff Heck Tate and Harold Hicks as Judge Taylor and townsperson Walter Cunningham. Twitchell is playing the role of Bob Ewell\, the accuser&rsquo\;s venomous and vengeful father.<br />\nPhoenix Burk\, freshman from Pittsburg\, is stage manager for the production and fills the roles of several minor characters\, and Michael Woodward\, sophomore from Fulton\, serves as sound designer and engineer for the production.<br />\nDesigning and running the lights for the show is Jason Huffman of Pittsburg.<br />\nThe play does contain offensive language.<br />\n&ldquo\;I guarantee you that no one in this cast wanted to use words like that to disparage fellow human beings\,&rdquo\; said Twitchell. &ldquo\;But\, you really can&rsquo\;t tell this story without doing that. To water it down in any way would subvert the truth and minimize the message that racism is wrong &ndash\; on every level .&rdquo\;<br />\n&nbsp\;
LOCATION:FSCC * ELLIS FINE ARTS CENTER * 2108 SOUTH HORTON ST.\, FORT SCOTT\, KS 66701
UID:e.2874.13633
SEQUENCE:3
DTSTAMP:20260420T124711Z
URL:https://fortscott.com/events/details/fscc-theater-presents-to-kill-a-mockingbird-13633
END:VEVENT

END:VCALENDAR
