BEGIN:VCALENDAR
VERSION:2.0
PRODID:-//ChamberMaster//Event Calendar 2.0//EN
METHOD:PUBLISH
X-PUBLISHED-TTL:P3D
REFRESH-INTERVAL:P3D
CALSCALE:GREGORIAN
BEGIN:VEVENT
DTSTART:20191207T010000Z
DTEND:20191207T030000Z
X-MICROSOFT-CDO-ALLDAYEVENT:FALSE
SUMMARY:FSCC Theatre Department presents ~ Santa "Claws" os coming to Town
DESCRIPTION:THE FORT SCOTT COMMUNITY COLLEGE THEATRE DEPARTMENT PRESENTS: SANTA "CLAWS" IS COMING TO TOWN\n\n\n\nWRITTEN & DIRECTED BY ALLEN TWITCHELL
X-ALT-DESC;FMTTYPE=text/html:THE FORT SCOTT COMMUNITY COLLEGE THEATRE DEPARTMENT PRESENTS: SANTA &quot\;CLAWS&quot\; IS COMING TO TOWN<br />\n<br />\nWRITTEN &amp\; DIRECTED BY ALLEN TWITCHELL
LOCATION:DANNY & WILLA ELLIS FAMILY FINE ARTS CENTER 2108 S. HORTON\, FORT SCOTT\, KS *** SPECIAL APPEARANCE BY "SANTA" & TREATS FOR THE CHILDREN!
UID:e.2874.13743
SEQUENCE:3
DTSTAMP:20260423T172817Z
URL:https://fortscott.com/events/details/fscc-theatre-department-presents-santa-claws-os-coming-to-town-13743
END:VEVENT

END:VCALENDAR
