BEGIN:VCALENDAR
VERSION:2.0
PRODID:-//ChamberMaster//Event Calendar 2.0//EN
METHOD:PUBLISH
X-PUBLISHED-TTL:P3D
REFRESH-INTERVAL:P3D
CALSCALE:GREGORIAN
BEGIN:VEVENT
DTSTART:20220427T160000Z
DTEND:20220427T180000Z
X-MICROSOFT-CDO-ALLDAYEVENT:FALSE
SUMMARY:FSCC Women's Appreciation Luncheon\, more details to come!
DESCRIPTION:FSCC Women's Appreciation Luncheon\, more details to come!
X-ALT-DESC;FMTTYPE=text/html:FSCC Women&#39\;s Appreciation Luncheon\, more details to come!
LOCATION:
UID:e.2874.22857
SEQUENCE:3
DTSTAMP:20260425T173100Z
URL:https://fortscott.com/events/details/fscc-women-s-appreciation-luncheon-more-details-to-come-22857
END:VEVENT

END:VCALENDAR
