BEGIN:VCALENDAR
VERSION:2.0
PRODID:-//ChamberMaster//Event Calendar 2.0//EN
METHOD:PUBLISH
X-PUBLISHED-TTL:P3D
REFRESH-INTERVAL:P3D
CALSCALE:GREGORIAN
BEGIN:VEVENT
DTSTART:20231007T000000Z
DTEND:20231007T020000Z
X-MICROSOFT-CDO-ALLDAYEVENT:FALSE
SUMMARY:FSHS Football Home vs. Chanute - Homecoming
DESCRIPTION:FSHS Football Home vs. Chanute - Homecoming
X-ALT-DESC;FMTTYPE=text/html:FSHS Football Home vs. Chanute - Homecoming
LOCATION:
UID:e.2874.29197
SEQUENCE:3
DTSTAMP:20260421T145146Z
URL:https://fortscott.com/events/details/fshs-football-home-vs-chanute-homecoming-29197
END:VEVENT

END:VCALENDAR
