BEGIN:VCALENDAR
VERSION:2.0
PRODID:-//ChamberMaster//Event Calendar 2.0//EN
METHOD:PUBLISH
X-PUBLISHED-TTL:P3D
REFRESH-INTERVAL:P3D
CALSCALE:GREGORIAN
BEGIN:VEVENT
DTSTART:20250627T230000Z
DTEND:20250628T000000Z
X-MICROSOFT-CDO-ALLDAYEVENT:FALSE
SUMMARY:FSHS Reunion Parade
DESCRIPTION:FSHS Reunion Parade\n\nFriday\, June 27th\, 6pm\n\n\n\nClick here to enter the parade!\n\n\n\nVisit www.fshsalumni.org for all reunion plans and updates!
X-ALT-DESC;FMTTYPE=text/html:<span style="font-size:24px\;"><span style="font-family:times new roman\;"><strong>FSHS Reunion Parade</strong></span></span><br />\nFriday\, June 27th\, 6pm<br />\n<br />\n<span style="font-size:20px\;"><strong>Click <a href="https://docs.google.com/forms/d/e/1FAIpQLSc7WujADyNywAAzMDKDrYUO13xgV-9ckncE6QGfEKa6vmM65Q/viewform">here</a> to enter the parade!</strong></span><br />\n<br />\nVisit <a href="https://www.fshsalumni.org">www.fshsalumni.org</a> for all reunion plans and updates!
LOCATION:
UID:e.2874.33433
SEQUENCE:3
DTSTAMP:20260425T004743Z
URL:https://fortscott.com/events/details/fshs-reunion-parade-33433
END:VEVENT

END:VCALENDAR
