BEGIN:VCALENDAR
VERSION:2.0
PRODID:-//ChamberMaster//Event Calendar 2.0//EN
METHOD:PUBLISH
X-PUBLISHED-TTL:P3D
REFRESH-INTERVAL:P3D
CALSCALE:GREGORIAN
BEGIN:VEVENT
DTSTART:20211212T013000Z
DTEND:20211212T030000Z
X-MICROSOFT-CDO-ALLDAYEVENT:FALSE
SUMMARY:FSHS Thespians present: The Regiment of the Really Weird - Comedy Improv Show and Thespian Performance Showcase.
DESCRIPTION:FSHS Thespians present: The Regiment of the Really Weird - Comedy Improv Show and Thespian Performance Showcase. Dec. 11 at 7:30 p.m.\, FSHS Auditorium. Admission is $5 at the door.
X-ALT-DESC;FMTTYPE=text/html:<span style="color: rgb(34\, 34\, 34)\; font-family: Arial\, Helvetica\, sans-serif\; font-size: small\;">FSHS Thespians present: The Regiment of the Really Weird - Comedy Improv Show and Thespian Performance Showcase. Dec. 11 at 7:30 p.m.\, FSHS Auditorium. Admission is $5 at the door.</span>
LOCATION:
UID:e.2874.22820
SEQUENCE:3
DTSTAMP:20260426T014122Z
URL:https://fortscott.com/events/details/fshs-thespians-present-the-regiment-of-the-really-weird-comedy-improv-show-and-thespian-performance-showcase-22820
END:VEVENT

END:VCALENDAR
