BEGIN:VCALENDAR
VERSION:2.0
PRODID:-//ChamberMaster//Event Calendar 2.0//EN
METHOD:PUBLISH
X-PUBLISHED-TTL:P3D
REFRESH-INTERVAL:P3D
CALSCALE:GREGORIAN
BEGIN:VEVENT
DTSTART:20191005T150000Z
DTEND:20191005T170000Z
X-MICROSOFT-CDO-ALLDAYEVENT:FALSE
SUMMARY:FSHS to host Royal Tea for Young Princes and Princesses
DESCRIPTION:For kids of all ages (accompanied by an adult). Games\, crafts\, treats\, songs\, stories with your favorite royalty (portrayed by FSHS Thespians)! Dress as your favorite royalty!\n\n\n\nCost: $10
X-ALT-DESC;FMTTYPE=text/html:<p dir="ltr" style="color: rgb(34\, 34\, 34)\; font-family: Arial\, Helvetica\, sans-serif\; font-size: small\; line-height: 1.38\; margin-top: 0pt\; margin-bottom: 0pt\;"><span style="font-size: 11pt\; font-family: Arial\; color: rgb(0\, 0\, 0)\; background-color: transparent\; font-variant-numeric: normal\; font-variant-east-asian: normal\; vertical-align: baseline\; white-space: pre-wrap\;">For kids of all ages (accompanied by an adult). Games\, crafts\, treats\, songs\, stories with your favorite royalty (portrayed by FSHS Thespians)! Dress as your favorite royalty!<br />\n<br />\nCost: $10</span></p>\n&nbsp\;\n\n<p dir="ltr" style="color: rgb(34\, 34\, 34)\; font-family: Arial\, Helvetica\, sans-serif\; font-size: small\; line-height: 1.38\; margin-top: 0pt\; margin-bottom: 0pt\;">&nbsp\;</p>\n
LOCATION:Fort Scott High School Commons\, 1005 S. Main St.
UID:e.2874.13573
SEQUENCE:3
DTSTAMP:20260420T113109Z
URL:https://fortscott.com/events/details/fshs-to-host-royal-tea-for-young-princes-and-princesses-13573
END:VEVENT

END:VCALENDAR
