BEGIN:VCALENDAR
VERSION:2.0
PRODID:-//ChamberMaster//Event Calendar 2.0//EN
METHOD:PUBLISH
X-PUBLISHED-TTL:P3D
REFRESH-INTERVAL:P3D
CALSCALE:GREGORIAN
BEGIN:VEVENT
DTSTART:20220506T230000Z
DTEND:20220507T020000Z
X-MICROSOFT-CDO-ALLDAYEVENT:FALSE
SUMMARY:Ft. Scott Elks Paint Night
DESCRIPTION:What is more Kansas than windmills and fields of flowers! This is a wonderful painting to have up all year!\n\nThe painting will be on a 16x20 canvas and instruction will be given step-by-step. Creative Canvas will assist you in any needs you may have during the painting process.\n\nWhen arriving\, please use the metal door on the East side of the building.\n\nCost is $30 per painter ($5 of this goes to the Elks to help with their fundraisers). All supplies are provided\, so no need to bring anything extra except for maybe a friend. Painting with friends is always more fun! Message Creative Canvas to sign up. PayPal and Venmo are accepted if you would prefer to pay ahead and cash is always accepted that night
X-ALT-DESC;FMTTYPE=text/html:<div class="kvgmc6g5 cxmmr5t8 oygrvhab hcukyx3x c1et5uql" style="overflow-wrap: break-word\; margin: 0px\; font-family: &quot\;Segoe UI Historic&quot\;\, &quot\;Segoe UI&quot\;\, Helvetica\, Arial\, sans-serif\; color: rgb(5\, 5\, 5)\; font-size: 15px\; background-color: rgb(255\, 255\, 255)\;">What is more Kansas than windmills and fields of flowers! This is a wonderful painting to have up all year!</div>\n\n<div class="cxmmr5t8 oygrvhab hcukyx3x c1et5uql o9v6fnle" style="overflow-wrap: break-word\; margin: 0.5em 0px 0px\; font-family: &quot\;Segoe UI Historic&quot\;\, &quot\;Segoe UI&quot\;\, Helvetica\, Arial\, sans-serif\; color: rgb(5\, 5\, 5)\; font-size: 15px\; background-color: rgb(255\, 255\, 255)\;">The painting will be on a 16x20 canvas and instruction will be given step-by-step. Creative Canvas will assist you in any needs you may have during the painting process.</div>\n\n<div class="cxmmr5t8 oygrvhab hcukyx3x c1et5uql o9v6fnle" style="overflow-wrap: break-word\; margin: 0.5em 0px 0px\; font-family: &quot\;Segoe UI Historic&quot\;\, &quot\;Segoe UI&quot\;\, Helvetica\, Arial\, sans-serif\; color: rgb(5\, 5\, 5)\; font-size: 15px\; background-color: rgb(255\, 255\, 255)\;">When arriving\, please use the metal door on the East side of the building.<br />\nCost is $30 per painter ($5 of this goes to the Elks to help with their fundraisers). All supplies are provided\, so no need to bring anything extra except for maybe a friend. Painting with friends is always more fun! Message Creative Canvas to sign up. PayPal and Venmo are accepted if you would prefer to pay ahead and cash is always accepted that night</div>\n
LOCATION:Fort Scott Elks Lodge
UID:e.2874.25011
SEQUENCE:3
DTSTAMP:20260425T160929Z
URL:https://fortscott.com/events/details/ft-scott-elks-paint-night-25011
END:VEVENT

END:VCALENDAR
