BEGIN:VCALENDAR
VERSION:2.0
PRODID:-//ChamberMaster//Event Calendar 2.0//EN
METHOD:PUBLISH
X-PUBLISHED-TTL:P3D
REFRESH-INTERVAL:P3D
CALSCALE:GREGORIAN
BEGIN:VEVENT
DTSTART:20220424T190000Z
DTEND:20220424T210000Z
X-MICROSOFT-CDO-ALLDAYEVENT:FALSE
SUMMARY:Fundraiser & Pie Auction to Support State Senator Caryn Tyson as Candidate for State Treasurer
DESCRIPTION:Fundraiser & Pie Auction to support State Senator Caryn Tyson as Candidate for State Treasurer\n\n\n\nSunday\, April 24th\, 2-4pm\n\nEmpress Event Center\, 7 N. Main\, Downtown Fort Scott\n\n\n\nCo-sponsors:\n\nMark & Mo McCoy\n\nLarry & Deb Martin\n\nTim Emerson\n\n\n\nDonations may be made online at https://www.teamtyson.org/#donate
X-ALT-DESC;FMTTYPE=text/html:Fundraiser &amp\; Pie Auction to support State Senator Caryn Tyson as Candidate for State Treasurer<br />\n<br />\nSunday\, April 24th\, 2-4pm<br />\nEmpress Event Center\, 7 N. Main\, Downtown Fort Scott<br />\n<br />\nCo-sponsors:<br />\nMark &amp\; Mo McCoy<br />\nLarry &amp\; Deb Martin<br />\nTim Emerson<br />\n<br />\nDonations may be made online at <a href="https://www.teamtyson.org/#donate">https://www.teamtyson.org/#donate</a><br />\n&nbsp\;
LOCATION:
UID:e.2874.25018
SEQUENCE:3
DTSTAMP:20260425T172840Z
URL:https://fortscott.com/events/details/fundraiser-pie-auction-to-support-state-senator-caryn-tyson-as-candidate-for-state-treasurer-25018
END:VEVENT

END:VCALENDAR
