BEGIN:VCALENDAR
VERSION:2.0
PRODID:-//ChamberMaster//Event Calendar 2.0//EN
METHOD:PUBLISH
X-PUBLISHED-TTL:P3D
REFRESH-INTERVAL:P3D
CALSCALE:GREGORIAN
BEGIN:VEVENT
DTSTART:20260425T150000Z
DTEND:20260425T200000Z
X-MICROSOFT-CDO-ALLDAYEVENT:FALSE
SUMMARY:Glaze Day!
DESCRIPTION:Walk-in and Glaze your creations you've made from Past Workshops located at The Artificers Teaching Studio. Ceramic Creations is $10/piece to glaze & fire for finished results.
X-ALT-DESC;FMTTYPE=text/html:Walk-in and Glaze your creations you&#39\;ve made from Past Workshops located at The Artificers Teaching Studio. Ceramic Creations is $10/piece to glaze &amp\; fire for finished results.&nbsp\;
LOCATION:The Artificers\, 8 N National Ave\, Fort Scott\, KS 66701
UID:e.2874.35797
SEQUENCE:3
DTSTAMP:20260424T232807Z
URL:https://fortscott.com/events/details/glaze-day-35797
END:VEVENT

END:VCALENDAR
