BEGIN:VCALENDAR
VERSION:2.0
PRODID:-//ChamberMaster//Event Calendar 2.0//EN
METHOD:PUBLISH
X-PUBLISHED-TTL:P3D
REFRESH-INTERVAL:P3D
CALSCALE:GREGORIAN
BEGIN:VEVENT
DTSTART;VALUE=DATE:20220416
DTEND;VALUE=DATE:20220417
TRANSP:TRANSPARENT
X-MICROSOFT-CDO-ALLDAYEVENT:TRUE
SUMMARY:Golden Egg Shopping Event 4/16
DESCRIPTION:Come and shop in the Downtown Fort Scott Historic District on Saturday\, April 16th!\n\n6 Golden eggs will be hidden throughout the retailers listed below. Eggs will contain Chamber Bucks\, discounts\, and more! \n\n\n\nParticipating retailers:\n\nAngie Dawn's\n\nBids & Dibs\n\nHedgehog.Ink!\n\nIron Star\n\nMain Street Gallery And Gifts\n\nMayco Ace\n\nMuseum of Creativity Gift Shop\n\nLaree + Co. \n\nSekan Occasion Shop\n\nShirt Shack\n\nSunshine Boutique\n\nTreasure Hunt Flea Market\n\nVaria
X-ALT-DESC;FMTTYPE=text/html:Come and shop in the Downtown Fort Scott Historic District on Saturday\, April 16th!<br />\n6 Golden eggs will be hidden throughout the retailers listed below. Eggs will contain Chamber Bucks\, discounts\, and more!&nbsp\;<br />\n<br />\nParticipating retailers:<br />\n<span style="color: rgb(51\, 51\, 51)\; font-family: sans-serif\, Arial\, Verdana\, &quot\;Trebuchet MS&quot\;\; font-size: 13px\; background-color: rgb(255\, 255\, 255)\;">Angie Dawn&#39\;s</span><br style="color: rgb(51\, 51\, 51)\; font-family: sans-serif\, Arial\, Verdana\, &quot\;Trebuchet MS&quot\;\; font-size: 13px\;" />\n<span style="color: rgb(51\, 51\, 51)\; font-family: sans-serif\, Arial\, Verdana\, &quot\;Trebuchet MS&quot\;\; font-size: 13px\; background-color: rgb(255\, 255\, 255)\;">Bids &amp\; Dibs</span><br style="color: rgb(51\, 51\, 51)\; font-family: sans-serif\, Arial\, Verdana\, &quot\;Trebuchet MS&quot\;\; font-size: 13px\;" />\n<span style="color: rgb(51\, 51\, 51)\; font-family: sans-serif\, Arial\, Verdana\, &quot\;Trebuchet MS&quot\;\; font-size: 13px\; background-color: rgb(255\, 255\, 255)\;">Hedgehog.Ink!</span><br style="color: rgb(51\, 51\, 51)\; font-family: sans-serif\, Arial\, Verdana\, &quot\;Trebuchet MS&quot\;\; font-size: 13px\;" />\n<span style="color: rgb(51\, 51\, 51)\; font-family: sans-serif\, Arial\, Verdana\, &quot\;Trebuchet MS&quot\;\; font-size: 13px\; background-color: rgb(255\, 255\, 255)\;">Iron Star<br />\nMain Street Gallery And Gifts<br />\nMayco Ace</span><br style="color: rgb(51\, 51\, 51)\; font-family: sans-serif\, Arial\, Verdana\, &quot\;Trebuchet MS&quot\;\; font-size: 13px\;" />\n<span style="background-color: rgb(255\, 255\, 255)\;">Museum of Creativity Gift Shop<br />\nLaree + Co.&nbsp\;<br />\nSekan Occasion&nbsp\;Shop</span><br style="color: rgb(51\, 51\, 51)\; font-family: sans-serif\, Arial\, Verdana\, &quot\;Trebuchet MS&quot\;\; font-size: 13px\;" />\n<span style="color: rgb(51\, 51\, 51)\; font-family: sans-serif\, Arial\, Verdana\, &quot\;Trebuchet MS&quot\;\; font-size: 13px\; background-color: rgb(255\, 255\, 255)\;">Shirt Shack</span><br style="color: rgb(51\, 51\, 51)\; font-family: sans-serif\, Arial\, Verdana\, &quot\;Trebuchet MS&quot\;\; font-size: 13px\;" />\n<span style="color: rgb(51\, 51\, 51)\; font-family: sans-serif\, Arial\, Verdana\, &quot\;Trebuchet MS&quot\;\; font-size: 13px\; background-color: rgb(255\, 255\, 255)\;">Sunshine Boutique</span><br style="color: rgb(51\, 51\, 51)\; font-family: sans-serif\, Arial\, Verdana\, &quot\;Trebuchet MS&quot\;\; font-size: 13px\;" />\n<span style="color: rgb(51\, 51\, 51)\; font-family: sans-serif\, Arial\, Verdana\, &quot\;Trebuchet MS&quot\;\; font-size: 13px\; background-color: rgb(255\, 255\, 255)\;">Treasure Hunt Flea Market</span><br style="color: rgb(51\, 51\, 51)\; font-family: sans-serif\, Arial\, Verdana\, &quot\;Trebuchet MS&quot\;\; font-size: 13px\;" />\n<span style="color: rgb(51\, 51\, 51)\; font-family: sans-serif\, Arial\, Verdana\, &quot\;Trebuchet MS&quot\;\; font-size: 13px\; background-color: rgb(255\, 255\, 255)\;">Varia&nbsp\;</span><br style="color: rgb(51\, 51\, 51)\; font-family: sans-serif\, Arial\, Verdana\, &quot\;Trebuchet MS&quot\;\; font-size: 13px\;" />\n&nbsp\;
LOCATION:Participating retailers: Angie Dawn's Bids & Dibs Hedgehog.Ink! Iron Star Main Street Gallery And Gifts Mayco Ace Museum of Creativity Gift Shop Laree + Co. Sekan Occasion Shop Shirt Shack Sunshine Boutique Treasure Hunt Flea Market Varia
UID:e.2874.24557
SEQUENCE:3
DTSTAMP:20260425T172656Z
URL:https://fortscott.com/events/details/golden-egg-shopping-event-4-16-24557
END:VEVENT

END:VCALENDAR
