BEGIN:VCALENDAR
VERSION:2.0
PRODID:-//ChamberMaster//Event Calendar 2.0//EN
METHOD:PUBLISH
X-PUBLISHED-TTL:P3D
REFRESH-INTERVAL:P3D
CALSCALE:GREGORIAN
BEGIN:VEVENT
DTSTART:20220603T230000Z
DTEND:20220604T000000Z
X-MICROSOFT-CDO-ALLDAYEVENT:FALSE
SUMMARY:Good Ol' Days Parade
DESCRIPTION:Good Ol' Days Parade\n\n6pm\n\nTheme:  41-derful Years of Family\, Friends and Fun\n\nRoute: starting at 6th & Main St.\, proceeding north along Main to Wall St.\, west to National Ave.\, then south back to 6th St.\n\n\n\nFREE to enter the parade!\n\n\n\nClick HERE for the parade entry form. \n\n\n\nDEADLINE TO REGISTER IS JUNE 1ST AT 1PM
X-ALT-DESC;FMTTYPE=text/html:<strong>Good Ol&#39\; Days Parade</strong><br />\n6pm<br />\n<strong>Theme:</strong>&nbsp\; 41-derful Years of Family\, Friends and Fun<br />\n<strong>Route:</strong>&nbsp\;starting at 6th &amp\; Main St.\, proceeding north along Main to Wall St.\, west to National Ave.\, then south back to 6th St.<br />\n<br />\nFREE to enter the parade!<br />\n<br />\nClick <a href="https://chambermaster.blob.core.windows.net/userfiles/UserFiles/chambers/2874/File/2022_G_O_D_parade_application.pdf"><span style="color:#0000FF\;">HERE</span></a> for the parade entry form.&nbsp\;<br />\n<br />\n<strong style="color: rgb(255\, 0\, 0)\; font-size: 18px\;">DEADLINE TO REGISTER IS JUNE 1ST AT 1PM</strong><br />\n<br />\n<br />\n<br />\n<br />\n<br />\n&nbsp\;
LOCATION:
UID:e.2874.24580
SEQUENCE:3
DTSTAMP:20260425T143011Z
URL:https://fortscott.com/events/details/good-ol-days-parade-24580
END:VEVENT

END:VCALENDAR
