BEGIN:VCALENDAR
VERSION:2.0
PRODID:-//ChamberMaster//Event Calendar 2.0//EN
METHOD:PUBLISH
X-PUBLISHED-TTL:P3D
REFRESH-INTERVAL:P3D
CALSCALE:GREGORIAN
BEGIN:VEVENT
DTSTART:20220419T140000Z
DTEND:20220419T153000Z
X-MICROSOFT-CDO-ALLDAYEVENT:FALSE
SUMMARY:Grant Writing Training offered by Community Foundation of SEK
DESCRIPTION:Pencil in Tuesday\, April 19\, 9-10:30\, The Foundry meeting room located within Block 22\, 402 N. Broadway\, Pittsburg\, KS.\n\nThe Community Foundation of Southeast Kansas (CFSEK) is offering a grant writing training workshop to SEK area non-profits!\n\nCFSEK is pleased to partner with The Center of Community Supports at Greenbush to offer this workshop at no cost to the SEK community.\n\nMonica Murnan will share information on organizational readiness\, proposal development\, needs assessments\, budgeting\, and managing funded projects.\n\nMurnan has a 25-year history of successful grant writing and management in the areas of community-based services\, health care access\, collaborative early childhood projects\, and education-based programs for kids and families.\n\nCFSEK staff will share some CFSEK grant specific information.\n\nPlan to attend to learn some "must do" and "please don't" strategies along with some organizational tips for gaining funds for your important work.\n\nWe hope you can join us for this opportunity to strengthen your grant writing skills.\n\nPlease register to attend at https://southeastkansas.org/grant-writing-april-2022/?fbclid=IwAR1nRJ918afK5BCocJYga6k4ELsY49xko2XGG_t1BMhFUBqaWOGFdkCBlmY\n\nEmail sherri.stephens@southeastkansas.org with any questions.
X-ALT-DESC;FMTTYPE=text/html:<h1 style="margin: 0px 0px 24px\; padding: 0px\; font-family: &quot\;Helvetica Neue&quot\;\, Helvetica\, Arial\, Verdana\, sans-serif\; color: rgb(0\, 0\, 0)\; font-size: 31.248px\; font-weight: 700\; text-align: center\;"><span style="font-size: 12pt\;">Pencil in Tuesday\, April 19\, 9-10:30\, The Foundry meeting room located within Block 22\, 402 N. Broadway\, Pittsburg\, KS.</span></h1>\n\n<p style="margin: 0px 0px 24px\; padding: 0px\; word-break: break-word\; color: rgb(0\, 0\, 0)\; font-family: &quot\;Helvetica Neue&quot\;\, Helvetica\, Arial\, Verdana\, sans-serif\; font-size: 16px\; text-align: center\;"><span style="font-size: 12pt\;">The Community Foundation of Southeast Kansas (CFSEK) is offering a grant writing training workshop to SEK area non-profits!</span></p>\n\n<p style="margin: 0px 0px 24px\; padding: 0px\; word-break: break-word\; color: rgb(0\, 0\, 0)\; font-family: &quot\;Helvetica Neue&quot\;\, Helvetica\, Arial\, Verdana\, sans-serif\; font-size: 16px\; text-align: center\;"><span style="font-size: 12pt\;">CFSEK is pleased to partner with The Center of Community Supports at Greenbush to offer this workshop at no cost to the SEK community.</span></p>\n\n<p style="margin: 0px 0px 24px\; padding: 0px\; word-break: break-word\; color: rgb(0\, 0\, 0)\; font-family: &quot\;Helvetica Neue&quot\;\, Helvetica\, Arial\, Verdana\, sans-serif\; font-size: 16px\; text-align: center\;"><span style="font-size: 12pt\;">Monica Murnan will share information on&nbsp\;</span><strong>organizational readiness\, proposal development\, needs assessments\, budgeting\, and managing funded projects.</strong></p>\n\n<p style="margin: 0px 0px 24px\; padding: 0px\; word-break: break-word\; color: rgb(0\, 0\, 0)\; font-family: &quot\;Helvetica Neue&quot\;\, Helvetica\, Arial\, Verdana\, sans-serif\; font-size: 16px\; text-align: center\;"><span style="font-size: 12pt\;">Murnan has a 25-year history of successful grant writing and management in the areas of community-based services\, health care access\, collaborative early childhood projects\, and education-based programs for kids and families.</span></p>\n\n<p style="margin: 0px 0px 24px\; padding: 0px\; word-break: break-word\; color: rgb(0\, 0\, 0)\; font-family: &quot\;Helvetica Neue&quot\;\, Helvetica\, Arial\, Verdana\, sans-serif\; font-size: 16px\; text-align: center\;"><span style="font-size: 12pt\;">CFSEK staff will share some CFSEK grant specific information.</span></p>\n\n<p style="margin: 0px 0px 24px\; padding: 0px\; word-break: break-word\; color: rgb(0\, 0\, 0)\; font-family: &quot\;Helvetica Neue&quot\;\, Helvetica\, Arial\, Verdana\, sans-serif\; font-size: 16px\; text-align: center\;"><span style="font-size: 12pt\;">Plan to attend to learn some &quot\;</span><strong>must do</strong><span style="font-size: 12pt\;">&quot\; and &quot\;</span><strong>please don&#39\;t</strong><span style="font-size: 12pt\;">&quot\; strategies along with some organizational tips for gaining funds for your important work.</span></p>\n\n<p style="margin: 0px 0px 24px\; padding: 0px\; word-break: break-word\; color: rgb(0\, 0\, 0)\; font-family: &quot\;Helvetica Neue&quot\;\, Helvetica\, Arial\, Verdana\, sans-serif\; font-size: 16px\; text-align: center\;"><span style="font-size: 12pt\;">We hope you can join us for this opportunity to strengthen your grant writing skills.</span></p>\n\n<p style="margin: 0px 0px 24px\; padding: 0px\; word-break: break-word\; color: rgb(0\, 0\, 0)\; font-family: &quot\;Helvetica Neue&quot\;\, Helvetica\, Arial\, Verdana\, sans-serif\; font-size: 16px\; text-align: center\;"><span style="font-size: 12pt\;">Please register to attend at&nbsp\;</span><a data-saferedirecturl="https://www.google.com/url?q=https://southeastkansas.org/grant-writing-april-2022/?fbclid%3DIwAR1nRJ918afK5BCocJYga6k4ELsY49xko2XGG_t1BMhFUBqaWOGFdkCBlmY&amp\;source=gmail&amp\;ust=1647359071624000&amp\;usg=AOvVaw3ph2qopdfuRQgyisRPeqjh" href="https://southeastkansas.org/grant-writing-april-2022/?fbclid=IwAR1nRJ918afK5BCocJYga6k4ELsY49xko2XGG_t1BMhFUBqaWOGFdkCBlmY" style="color: rgb(0\, 0\, 0)\; word-break: break-word\;" target="_blank">https://southeastkansas.org/<wbr />grant-writing-april-2022/?<wbr />fbclid=<wbr />IwAR1nRJ918afK5BCocJYga6k4ELsY<wbr />49xko2XGG_<wbr />t1BMhFUBqaWOGFdkCBlmY</a></p>\n\n<p class="m_-2744060842644080220last-child" style="margin: 0px\; padding: 0px\; word-break: break-word\; color: rgb(0\, 0\, 0)\; font-family: &quot\;Helvetica Neue&quot\;\, Helvetica\, Arial\, Verdana\, sans-serif\; font-size: 16px\; text-align: center\;"><span style="font-size: 12pt\;">Email&nbsp\;</span><a href="mailto:sherri.stephens@southeastkansas.org" style="color: rgb(0\, 0\, 0)\; word-break: break-word\;" target="_blank"><span style="font-size: 12pt\;">sherri.stephens@<wbr />southeastkansas.org</span></a><span style="font-size: 12pt\;">&nbsp\;with any questions.</span></p>\n
LOCATION:
UID:e.2874.24551
SEQUENCE:3
DTSTAMP:20260425T172723Z
URL:https://fortscott.com/events/details/grant-writing-training-offered-by-community-foundation-of-sek-24551
END:VEVENT

END:VCALENDAR
