BEGIN:VCALENDAR
VERSION:2.0
PRODID:-//ChamberMaster//Event Calendar 2.0//EN
METHOD:PUBLISH
X-PUBLISHED-TTL:P3D
REFRESH-INTERVAL:P3D
CALSCALE:GREGORIAN
BEGIN:VEVENT
DTSTART:20220524T230000Z
DTEND:20220525T010000Z
X-MICROSOFT-CDO-ALLDAYEVENT:FALSE
SUMMARY:Gross Insurance Agency Educational Dinner
DESCRIPTION:Gross Ins is hosting a Educational Dinner on May 24th at 6pm at Lucci's Cafe. This dinner will go over long term health\, life insurance for mortgage holders\, umbrella\, personal article policy\, and flood coverage. If this is something you would be interested in participating in please call the office at 620-223-2550 or email agent@grossins.com for more information and to reserve your spot!
X-ALT-DESC;FMTTYPE=text/html:<span style="color: rgb(5\, 5\, 5)\; font-family: &quot\;Segoe UI Historic&quot\;\, &quot\;Segoe UI&quot\;\, Helvetica\, Arial\, sans-serif\; font-size: 15px\; white-space: pre-wrap\;">Gross Ins is hosting a Educational Dinner on May 24th at 6pm at Lucci&rsquo\;s Cafe. This dinner will go over long term health\, life insurance for mortgage holders\, umbrella\, personal article policy\, and flood coverage. If this is something you would be interested in participating in please call the office at 620-223-2550 or email agent@grossins.com for more information and to reserve your spot!</span>
LOCATION:
UID:e.2874.25080
SEQUENCE:3
DTSTAMP:20260425T160936Z
URL:https://fortscott.com/events/details/gross-insurance-agency-educational-dinner-25080
END:VEVENT

END:VCALENDAR
